BEGIN:VCALENDAR
VERSION:2.0
PRODID:-//Texas Discovery Gardens - ECPv6.15.20//NONSGML v1.0//EN
CALSCALE:GREGORIAN
METHOD:PUBLISH
X-WR-CALNAME:Texas Discovery Gardens
X-ORIGINAL-URL:https://txdg.org
X-WR-CALDESC:Events for Texas Discovery Gardens
REFRESH-INTERVAL;VALUE=DURATION:PT1H
X-Robots-Tag:noindex
X-PUBLISHED-TTL:PT1H
BEGIN:VTIMEZONE
TZID:America/Chicago
BEGIN:DAYLIGHT
TZOFFSETFROM:-0600
TZOFFSETTO:-0500
TZNAME:CDT
DTSTART:20230312T080000
END:DAYLIGHT
BEGIN:STANDARD
TZOFFSETFROM:-0500
TZOFFSETTO:-0600
TZNAME:CST
DTSTART:20231105T070000
END:STANDARD
BEGIN:DAYLIGHT
TZOFFSETFROM:-0600
TZOFFSETTO:-0500
TZNAME:CDT
DTSTART:20240310T080000
END:DAYLIGHT
BEGIN:STANDARD
TZOFFSETFROM:-0500
TZOFFSETTO:-0600
TZNAME:CST
DTSTART:20241103T070000
END:STANDARD
BEGIN:DAYLIGHT
TZOFFSETFROM:-0600
TZOFFSETTO:-0500
TZNAME:CDT
DTSTART:20250309T080000
END:DAYLIGHT
BEGIN:STANDARD
TZOFFSETFROM:-0500
TZOFFSETTO:-0600
TZNAME:CST
DTSTART:20251102T070000
END:STANDARD
END:VTIMEZONE
BEGIN:VEVENT
DTSTART;TZID=America/Chicago:20240927T100000
DTEND;TZID=America/Chicago:20241020T190000
DTSTAMP:20260420T142909
CREATED:20240730T212359Z
LAST-MODIFIED:20241002T212231Z
UID:10000361-1727431200-1729450800@txdg.org
SUMMARY:TDG Biergarten At The State Fair of Texas
DESCRIPTION:Unwind and Enjoy at the new Texas Discovery Gardens Biergarten – The State Fair of Texas’ Best Kept Secret! \nFor The 2024 State Fair of Texas\, Texas Discovery Gardens is featuring a traditional German-style Biergarten in our air-conditioned Grand Hall. The Biergarten is complete with communal tables\, rustic decor\, and a festive atmosphere including authentic German beer\, soft drinks\, water\, sausages\, sauerkraut\, and pretzels along with German mustard. Enjoy the TDG Biergarten from September 27 to October 20\, open 10 am to 7 pm. \nWith your TDG admission purchase every guest will receive ONE (1) complimentary TDG souvenir cup with one complimentary soda\, water\, or a Blue Bell ice cream cup. Enjoy your drink and food in our air-conditioned Grand Hall or in one of our many outside seating areas. \n\n	\n		\n\n						\n		\n\n			\n	\n	\n			\n				\n			\n\n																																																					\n				\n																							\n																											\n																														\n																									\n\n				\n			\n\n																																																					\n				\n																							\n																											\n																														\n																									\n\n				\n			\n\n																																																					\n				\n																							\n																											\n																														\n																									\n\n				\n			\n\n																																																					\n				\n																							\n																											\n																														\n																									\n\n			\n		\n\n\n\n	\n		\n	\n\n\nAccess to TDG and the TDG Biergarten is included with your TDG membership or appropriate paid daily admission. State Fair Season Pass holders receive free admission on all days. As an added bonus\, Tuesdays and Thursdays are special half-price admission days at TDG during the 2024 State Fair of Texas. State Fair of Texas coupons and credit cards are accepted for admission\, food\, and beverages. Sorry\, no cash. \nCome Explore\, Experience\, Entertain\, and Educate yourself at Texas Discovery Gardens and our Biergarten\, where great times and delightful discoveries await!  Discover our 2-story Sammons Indoor Exotic Butterfly House\, the Snake and Reptile Shack\, the insectarium and large Axolotl tank\, lush outdoor organic gardens\, many ponds and fountains\, children’s playscape\, and the famous garden trains with 7 trains running on over 1000 feet of track and passing by the Alamo replica and historic towns. Daily activities include scheduled butterfly releases\, critter encounters\, face-painting\, Monarch butterfly tagging\, and more. TDG has 7.5 acres of fun and excitement\, right inside the State Fair of Texas. TDG is located just West of the Star of Texas Ferris Wheel and across from the Band Shell\, also designated as #36 on the State Fair map. \nhttps://txdg.org/wp-content/uploads/2024/10/IMG_2279.mp4
URL:https://txdg.org/event/tdg-biergarten-at-the-state-fair-of-texas/
LOCATION:Texas Discovery Gardens\, 3601 Martin Luther King Junior\, Dallas\, TX\, United States
CATEGORIES:Calendar Event,The State Fair of Texas
ATTACH;FMTTYPE=image/jpeg:https://txdg.org/wp-content/uploads/2024/07/TDG-Biergarten-Social.jpg
END:VEVENT
BEGIN:VEVENT
DTSTART;TZID=America/Chicago:20241026T100000
DTEND;TZID=America/Chicago:20241026T113000
DTSTAMP:20260420T142909
CREATED:20240829T195618Z
LAST-MODIFIED:20240930T124226Z
UID:10000365-1729936800-1729942200@txdg.org
SUMMARY:Create Your Own Terrifying 'Ceme-terrarium'!
DESCRIPTION:Get ready for some creepy-crawly fun just in time for Halloween! In this hands-on class\, you’ll craft your very own mini haunted scene – a Cemeterrarium!  Build a spooky graveyard inside a terrarium with eerie props\, perfect for adding a touch of Halloween to your home. 🕷️\nAll supplies are included\, but feel free to bring any spine-chilling trinkets from home to make it even more frightful! 🧙‍♀️ (Note: Terrarium vessels and props may vary from the images shown.)\n\nCostumes are encouraged 🎩 – so come dressed in your Halloween best! 🎃🧛‍♂️\nTDG Members: Class and materials fee $40\nNon-Members: Class and materials fee $45\nDate: Saturday\, October 26th\nTweens Class (8–12-year-olds): 10 – 11:30 a.m. ⏰\nTeens Class (13–17-year-olds): 1 – 2:30 p.m. ⏰\n\nTo make a reservation\, visit our Discovery Days page!
URL:https://txdg.org/event/create-your-own-terrifying-ceme-terrarium/2024-10-26/1/
LOCATION:Texas Discovery Gardens\, 3601 Martin Luther King Junior\, Dallas\, TX\, United States
CATEGORIES:Calendar Event
ATTACH;FMTTYPE=image/jpeg:https://txdg.org/wp-content/uploads/2024/08/Ceme-terrarium-Class-24.jpg
ORGANIZER;CN="Marisol Sanchez":MAILTO:education@txdg.org
END:VEVENT
BEGIN:VEVENT
DTSTART;TZID=America/Chicago:20241026T100000
DTEND;TZID=America/Chicago:20241026T113000
DTSTAMP:20260420T142909
CREATED:20240829T195956Z
LAST-MODIFIED:20240930T124311Z
UID:10000366-1729936800-1729942200@txdg.org
SUMMARY:Create Your Own Pumpkin Succulent Garden!
DESCRIPTION:Celebrate the fall season by crafting a beautiful Pumpkin Succulent Garden at Texas Discovery Gardens! 🍂 Join us for a fun and creative workshop where you’ll design your very own autumn-themed succulent display – perfect for adding seasonal charm to your home.\nThis class is for adults 18 and up and takes place on Saturday\, October 26th from 10-11:30 a.m. All materials are provided\, so you can relax and enjoy the process of creating something truly special.\n\nTDG Members: $40\nNon-Members: $45\n\nDon’t miss out – To make a reservation\, visit our Discovery Days page! 🍁🌿
URL:https://txdg.org/event/create-your-own-pumpkin-succulent-garden/
LOCATION:Texas Discovery Gardens\, 3601 Martin Luther King Junior\, Dallas\, TX\, United States
CATEGORIES:Calendar Event
ATTACH;FMTTYPE=image/jpeg:https://txdg.org/wp-content/uploads/2024/08/Unknown.jpeg
ORGANIZER;CN="Marisol Sanchez":MAILTO:education@txdg.org
END:VEVENT
BEGIN:VEVENT
DTSTART;TZID=America/Chicago:20241026T130000
DTEND;TZID=America/Chicago:20241026T143000
DTSTAMP:20260420T142909
CREATED:20240829T195618Z
LAST-MODIFIED:20240930T124226Z
UID:10000368-1729947600-1729953000@txdg.org
SUMMARY:Create Your Own Terrifying 'Ceme-terrarium'!
DESCRIPTION:Get ready for some creepy-crawly fun just in time for Halloween! In this hands-on class\, you’ll craft your very own mini haunted scene – a Cemeterrarium!  Build a spooky graveyard inside a terrarium with eerie props\, perfect for adding a touch of Halloween to your home. 🕷️\nAll supplies are included\, but feel free to bring any spine-chilling trinkets from home to make it even more frightful! 🧙‍♀️ (Note: Terrarium vessels and props may vary from the images shown.)\n\nCostumes are encouraged 🎩 – so come dressed in your Halloween best! 🎃🧛‍♂️\nTDG Members: Class and materials fee $40\nNon-Members: Class and materials fee $45\nDate: Saturday\, October 26th\nTweens Class (8–12-year-olds): 10 – 11:30 a.m. ⏰\nTeens Class (13–17-year-olds): 1 – 2:30 p.m. ⏰\n\nTo make a reservation\, visit our Discovery Days page!
URL:https://txdg.org/event/create-your-own-terrifying-ceme-terrarium/2024-10-26/2/
LOCATION:Texas Discovery Gardens\, 3601 Martin Luther King Junior\, Dallas\, TX\, United States
CATEGORIES:Calendar Event
ATTACH;FMTTYPE=image/jpeg:https://txdg.org/wp-content/uploads/2024/08/Ceme-terrarium-Class-24.jpg
ORGANIZER;CN="Marisol Sanchez":MAILTO:education@txdg.org
END:VEVENT
END:VCALENDAR