BEGIN:VCALENDAR
VERSION:2.0
PRODID:-//Texas Discovery Gardens - ECPv6.15.20//NONSGML v1.0//EN
CALSCALE:GREGORIAN
METHOD:PUBLISH
X-ORIGINAL-URL:https://txdg.org
X-WR-CALDESC:Events for Texas Discovery Gardens
REFRESH-INTERVAL;VALUE=DURATION:PT1H
X-Robots-Tag:noindex
X-PUBLISHED-TTL:PT1H
BEGIN:VTIMEZONE
TZID:America/Chicago
BEGIN:DAYLIGHT
TZOFFSETFROM:-0600
TZOFFSETTO:-0500
TZNAME:CDT
DTSTART:20230312T080000
END:DAYLIGHT
BEGIN:STANDARD
TZOFFSETFROM:-0500
TZOFFSETTO:-0600
TZNAME:CST
DTSTART:20231105T070000
END:STANDARD
BEGIN:DAYLIGHT
TZOFFSETFROM:-0600
TZOFFSETTO:-0500
TZNAME:CDT
DTSTART:20240310T080000
END:DAYLIGHT
BEGIN:STANDARD
TZOFFSETFROM:-0500
TZOFFSETTO:-0600
TZNAME:CST
DTSTART:20241103T070000
END:STANDARD
BEGIN:DAYLIGHT
TZOFFSETFROM:-0600
TZOFFSETTO:-0500
TZNAME:CDT
DTSTART:20250309T080000
END:DAYLIGHT
BEGIN:STANDARD
TZOFFSETFROM:-0500
TZOFFSETTO:-0600
TZNAME:CST
DTSTART:20251102T070000
END:STANDARD
END:VTIMEZONE
BEGIN:VEVENT
DTSTART;VALUE=DATE:20240909
DTEND;VALUE=DATE:20240920
DTSTAMP:20260420T175710
CREATED:20240903T144300Z
LAST-MODIFIED:20260313T145134Z
UID:10000370-1725840000-1726790399@txdg.org
SUMMARY:TDG + North Texas Giving Day
DESCRIPTION:North Texas Giving Day\, organized by Communities Foundation of Texas\, is the nation’s largest community investment initiative. This event ensures that 100% of each donation directly supports nonprofits across 25 cause areas in 20 North Texas counties\, including TDG. Last year\, over $60 million was raised by 97\,132 donors\, benefiting more than 3\,000 local nonprofits. This remarkable effort has brought the fifteen-year total to over $566 million for our community. Support TDG and other deserving nonprofits on this impactful day of giving! \nCan you recall the first time you got to touch a snake\, feeling its cool\, dry scales? Or the first time you saw a butterfly flying in your backyard\, close enough to touch? With every visit\, we’re creating experiences that are remembered into adulthood. \nOur Needs\nWe are currently in need of funds to help us maintain our gardens and Butterfly House\, to support our education programs\, and to continue our mission with our popular Earthkeeper Scholarship. \nNorth Texas Giving Day is over\, but if you would still like to make a donation to Texas Discovery Gardens please click here.\n 
URL:https://txdg.org/event/tdg-north-texas-giving-day/
LOCATION:Texas Discovery Gardens\, 3601 Martin Luther King Junior\, Dallas\, TX\, United States
CATEGORIES:Calendar Event
ATTACH;FMTTYPE=image/jpeg:https://txdg.org/wp-content/uploads/2024/09/NTGD.jpg
END:VEVENT
END:VCALENDAR