BEGIN:VCALENDAR
VERSION:2.0
PRODID:-//Texas Discovery Gardens - ECPv6.15.20//NONSGML v1.0//EN
CALSCALE:GREGORIAN
METHOD:PUBLISH
X-WR-CALNAME:Texas Discovery Gardens
X-ORIGINAL-URL:https://txdg.org
X-WR-CALDESC:Events for Texas Discovery Gardens
REFRESH-INTERVAL;VALUE=DURATION:PT1H
X-Robots-Tag:noindex
X-PUBLISHED-TTL:PT1H
BEGIN:VTIMEZONE
TZID:America/Chicago
BEGIN:DAYLIGHT
TZOFFSETFROM:-0600
TZOFFSETTO:-0500
TZNAME:CDT
DTSTART:20240310T080000
END:DAYLIGHT
BEGIN:STANDARD
TZOFFSETFROM:-0500
TZOFFSETTO:-0600
TZNAME:CST
DTSTART:20241103T070000
END:STANDARD
BEGIN:DAYLIGHT
TZOFFSETFROM:-0600
TZOFFSETTO:-0500
TZNAME:CDT
DTSTART:20250309T080000
END:DAYLIGHT
BEGIN:STANDARD
TZOFFSETFROM:-0500
TZOFFSETTO:-0600
TZNAME:CST
DTSTART:20251102T070000
END:STANDARD
BEGIN:DAYLIGHT
TZOFFSETFROM:-0600
TZOFFSETTO:-0500
TZNAME:CDT
DTSTART:20260308T080000
END:DAYLIGHT
BEGIN:STANDARD
TZOFFSETFROM:-0500
TZOFFSETTO:-0600
TZNAME:CST
DTSTART:20261101T070000
END:STANDARD
BEGIN:DAYLIGHT
TZOFFSETFROM:-0600
TZOFFSETTO:-0500
TZNAME:CDT
DTSTART:20270314T080000
END:DAYLIGHT
BEGIN:STANDARD
TZOFFSETFROM:-0500
TZOFFSETTO:-0600
TZNAME:CST
DTSTART:20271107T070000
END:STANDARD
END:VTIMEZONE
BEGIN:VEVENT
DTSTART;VALUE=DATE:20250201
DTEND;VALUE=DATE:20250217
DTSTAMP:20260421T005014
CREATED:20250122T204034Z
LAST-MODIFIED:20250122T213524Z
UID:10001234-1738368000-1739750399@txdg.org
SUMMARY:Valentine's Day Deals: Butterfly House Proposal Experience
DESCRIPTION:Butterfly House Proposal Experience \nMake your proposal unforgettable in the enchanting atmosphere of the Butterfly House at Texas Discovery Gardens. This is a truly unique and memorable opportunity!  \nAvailable Dates: Saturday\, February 1st – Sunday\, February 16th  \nDuring Business Hours:  \n\n$200.00 for 2 hours \n\n\nIncludes admission for three people  \n\n\nA magical butterfly release experience \n\nAfter Business Hours:  \n\n$450.00 for 2 hours  \n\n\nIncludes admission for fifteen people  \n\n\nIncludes three tickets to the Festival of Lights (available Wednesday through Sunday) \n\nCreate a moment as unique as your love in our stunning Butterfly House.  \nFor more information and to register for a day and time\, please visit our Valentine’s Day Deals page!
URL:https://txdg.org/event/valentines-day-deals-butterfly-house-proposal-experience/
LOCATION:Texas Discovery Gardens\, 3601 Martin Luther King Junior\, Dallas\, TX\, United States
CATEGORIES:Calendar Event
ATTACH;FMTTYPE=image/png:https://txdg.org/wp-content/uploads/2025/01/proposal-package-1.png
END:VEVENT
BEGIN:VEVENT
DTSTART;VALUE=DATE:20250205
DTEND;VALUE=DATE:20250210
DTSTAMP:20260421T005014
CREATED:20250122T204514Z
LAST-MODIFIED:20250122T213408Z
UID:10001235-1738713600-1739145599@txdg.org
SUMMARY:Valentine's Day Deals: Bee Mine Package
DESCRIPTION:Celebrate love this Valentine’s Day with our special offers that will leave your heart fluttering!  \nAvailable Dates:  \n\nWednesday\, February 5th – Sunday\, February 9th \n\n\nWednesday\, February 12th – Sunday\, February 16th \n\n\nTIME 4:00PM-8:00PM \n\nBee Mine Valentine’s Day Package  \nFor just $175.00\, enjoy a romantic package that includes:  \n\nA dual membership to Texas Discovery Gardens for a year\, which includes State Fair tickets  \n\n\nA butterfly release experience  \n\n\nAdmission for two to the Festival of Lights  \n\n\nAccess to a beautifully decorated photo opportunity in the Butterfly House (perfect for selfies!)  \n\n\nA charming succulent plant to take home from our greenhouse \n\nA perfect way to treat your Valentine and make cherished memories that will last forever!  \nFor more information\, visit our Valentine’s Day Deals page.
URL:https://txdg.org/event/valentines-day-deals-bee-mine-package/2025-02-05/
LOCATION:Texas Discovery Gardens\, 3601 Martin Luther King Junior\, Dallas\, TX\, United States
CATEGORIES:Calendar Event
ATTACH;FMTTYPE=image/png:https://txdg.org/wp-content/uploads/2025/01/bee-mine-package.png
END:VEVENT
BEGIN:VEVENT
DTSTART;VALUE=DATE:20250212
DTEND;VALUE=DATE:20250217
DTSTAMP:20260421T005014
CREATED:20250122T204514Z
LAST-MODIFIED:20250122T213408Z
UID:10001236-1739318400-1739750399@txdg.org
SUMMARY:Valentine's Day Deals: Bee Mine Package
DESCRIPTION:Celebrate love this Valentine’s Day with our special offers that will leave your heart fluttering!  \nAvailable Dates:  \n\nWednesday\, February 5th – Sunday\, February 9th \n\n\nWednesday\, February 12th – Sunday\, February 16th \n\n\nTIME 4:00PM-8:00PM \n\nBee Mine Valentine’s Day Package  \nFor just $175.00\, enjoy a romantic package that includes:  \n\nA dual membership to Texas Discovery Gardens for a year\, which includes State Fair tickets  \n\n\nA butterfly release experience  \n\n\nAdmission for two to the Festival of Lights  \n\n\nAccess to a beautifully decorated photo opportunity in the Butterfly House (perfect for selfies!)  \n\n\nA charming succulent plant to take home from our greenhouse \n\nA perfect way to treat your Valentine and make cherished memories that will last forever!  \nFor more information\, visit our Valentine’s Day Deals page.
URL:https://txdg.org/event/valentines-day-deals-bee-mine-package/2025-02-12/
LOCATION:Texas Discovery Gardens\, 3601 Martin Luther King Junior\, Dallas\, TX\, United States
CATEGORIES:Calendar Event
ATTACH;FMTTYPE=image/png:https://txdg.org/wp-content/uploads/2025/01/bee-mine-package.png
END:VEVENT
BEGIN:VEVENT
DTSTART;TZID=America/Chicago:20250607T180000
DTEND;TZID=America/Chicago:20250607T210000
DTSTAMP:20260421T005014
CREATED:20250408T172946Z
LAST-MODIFIED:20250607T191849Z
UID:10001364-1749319200-1749330000@txdg.org
SUMMARY:Jazz at the Gardens
DESCRIPTION:June 7 – Saturday evening. \nPre-event Warm-up: 6:00-7:00 PM – Warm up by touring the Texas Discovery Gardens’ world famous Sammons two-story Butterfly House\, featuring a walk through lush tropical plants with free-flying butterflies from all over the world. You can also stroll the garden grounds before catching your seats. \nShow: 7:00-9:00 PM in the Grand Hall. Jazz in the Gardens will be featuring Martha Burks and her band.\nOpen seating is a combination of Bistro chairs and tables and tables of 10. All seating is open and first come\, first seated. \nBar service will be a selection of beer\, wine\, and non-alcoholic beverages\, along with light snacks. \nAll proceeds will benefit Texas Discovery Gardens\, a 501c3 non-profit supported in part by the City of Dallas Parks and Recreation Department. \nDirections and parking: Enter Fair Park Gate 6 and then turn right onto Second Ave and then another immediate right into the TDG parking lot. Cross the street and follow the string lights to the main entrance. Parking is free. The MLK DART station is also just 1 block away from Gate 6. \nTickets: $30 per person\, $27 for TDG Members. Advance purchase required as seats are limited. \nMore information on this event can be found on our Jazz at the Gardens page. \nPLEASE PURCHASE YOUR TICKETS BELOW:
URL:https://txdg.org/event/jazz-at-the-gardens/
LOCATION:Texas Discovery Gardens\, 3601 Martin Luther King Junior\, Dallas\, TX\, United States
CATEGORIES:Calendar Event
ATTACH;FMTTYPE=image/png:https://txdg.org/wp-content/uploads/2025/04/JazzImage_small.png
END:VEVENT
BEGIN:VEVENT
DTSTART;TZID=America/Chicago:20250614T090000
DTEND;TZID=America/Chicago:20250614T130000
DTSTAMP:20260421T005014
CREATED:20250530T165938Z
LAST-MODIFIED:20250530T165938Z
UID:10001370-1749891600-1749906000@txdg.org
SUMMARY:Final Spring Plant Sale
DESCRIPTION:🌿 Final Spring Plant Sale – Saturday\, June 14 | 9 AM – 1 PM 🌿\nTexas Discovery Gardens | Fair Park\, Dallas\nBusting into Summer with 10% off\, Members still get an extra 10% discount! \nDon’t miss your last chance to stock up before summer! Our dedicated volunteers and staff work year-round to bring you an exceptional selection of plants\, and this is our final plant sale of the Spring season. We won’t have another until Fall! \nWe’re proud to offer one of the largest selections of Native and Adapted Texas plants in the Metroplex. Whether you’re looking for host\, pollinator\, or nectar plants\, even those hard-to-find varieties\, there’s a good chance we’ve got it. \nMany of our plants are already in bloom\, with plenty more that will flower all summer long. This is the perfect window to get your plants in the ground before the Texas heat hits its peak. \nOur knowledgeable staff will be on hand to help you select the right plants for your space and offer expert growing advice. \nGrow your garden\, support local biodiversity\, and see what’s blooming at Texas Discovery Gardens! \nMore information can be found on our Plant Sale page! \nNOTE: TDG Plant Sale is going cashless.\nMajor credit\, debit card\, and Phone Pay such as Apple\, Samsung\, etc.\, are welcome.
URL:https://txdg.org/event/final-spring-plant-sale/
LOCATION:Texas Discovery Gardens\, 3601 Martin Luther King Junior\, Dallas\, TX\, United States
CATEGORIES:Calendar Event
ATTACH;FMTTYPE=image/jpeg:https://txdg.org/wp-content/uploads/2024/10/yucca_twisted_leaf-blue.jpg
END:VEVENT
BEGIN:VEVENT
DTSTART;TZID=America/Chicago:20250831T130000
DTEND;TZID=America/Chicago:20250831T150000
DTSTAMP:20260421T005014
CREATED:20250813T131642Z
LAST-MODIFIED:20250813T131643Z
UID:10001376-1756645200-1756652400@txdg.org
SUMMARY:Chev Marmor Artist's Reception
DESCRIPTION:CHEV X MARMOR\nAugust 13 – September 21\, 2025\nReception: August 31: 1:00-3:00pm \nThis show brings together a curated selection of stone furniture and paintings\, composed to be experienced as a single immersive installation. The works invite reflection on presence\, pressure\, and perception — offering a moment of stillness and movement\, of silence and gesture. \nFind out more about this exhibition on our Art Gallery page!
URL:https://txdg.org/event/chev-marmor-artists-reception/
LOCATION:Texas Discovery Gardens\, 3601 Martin Luther King Junior\, Dallas\, TX\, United States
CATEGORIES:Calendar Event
ATTACH;FMTTYPE=image/png:https://txdg.org/wp-content/uploads/2024/02/Chev-Marmor.png
END:VEVENT
BEGIN:VEVENT
DTSTART;TZID=America/Chicago:20251116T110000
DTEND;TZID=America/Chicago:20251116T150000
DTSTAMP:20260421T005014
CREATED:20251107T134451Z
LAST-MODIFIED:20251107T134452Z
UID:10001384-1763290800-1763305200@txdg.org
SUMMARY:Anna Brindley Nature Art Walk and Reception
DESCRIPTION:Nature Art Walk & Reception\n🌀 Nature Art Walk\n📅 Sunday\, November 16 | 11:00 a.m.\nJoin us for an all-ages adventure through the gardens! Collect leaves\, twigs\, blossoms\, and other natural treasures to create your own nature art inspired by Anna’s playful style. \n🎨 Artist Reception\n📅 Sunday\, November 16 | 1:00 p.m.–3:00 p.m.\nMeet the artist and explore her collection in the gallery. \nPlease view our Art Gallery page for more information!
URL:https://txdg.org/event/anna-brindley-nature-art-walk-and-reception/
LOCATION:Texas Discovery Gardens\, 3601 Martin Luther King Junior\, Dallas\, TX\, United States
CATEGORIES:Calendar Event
ATTACH;FMTTYPE=image/png:https://txdg.org/wp-content/uploads/2025/11/artistimg.png
END:VEVENT
BEGIN:VEVENT
DTSTART;TZID=America/Chicago:20260117T120000
DTEND;TZID=America/Chicago:20260117T140000
DTSTAMP:20260421T005014
CREATED:20260105T182326Z
LAST-MODIFIED:20260105T182327Z
UID:10001397-1768651200-1768658400@txdg.org
SUMMARY:Kristina Salinas - Artist's Reception
DESCRIPTION:Exhibit: Home Grown\nJanuary 17th – March 1st\nReception: Saturday\, January 17th\, 12:00pm-2:00pm \nFor more details\, please visit our Art Gallery page.
URL:https://txdg.org/event/kristina-salinas-artists-reception/
LOCATION:Texas Discovery Gardens\, 3601 Martin Luther King Junior\, Dallas\, TX\, United States
CATEGORIES:Calendar Event
ATTACH;FMTTYPE=image/jpeg:https://txdg.org/wp-content/uploads/2026/01/kristinasalinas_art.jpeg
END:VEVENT
BEGIN:VEVENT
DTSTART;TZID=America/Chicago:20260124T100000
DTEND;TZID=America/Chicago:20260124T120000
DTSTAMP:20260421T005014
CREATED:20251202T161159Z
LAST-MODIFIED:20251202T161159Z
UID:10001394-1769248800-1769256000@txdg.org
SUMMARY:Discovery Days at TDG: Plant Propagation Workshop
DESCRIPTION:January 24\, 2026 OR February 7\, 2026\n10:30 AM- 11:30 AM \nMembers: $40\nNon-Members: $45 \nAdult Class\nRegistration Required \nTaking the Mystery Out of Plant Propagation\nUnravel the secrets of plant propagation in this hands-on workshop! \nLearn how to turn one plant into many using cuttings\, division\, and layering\, and discover the ABCs of seed collection\, storage\, and germination. \nYou’ll get to practice each method during the class\, and you’ll head home with your very own propagated cuttings to grow and nurture. \nBe sure to sign up as reservations are required!
URL:https://txdg.org/event/discovery-days-at-tdg-plant-propagation-workshop/2026-01-24/
LOCATION:Texas Discovery Gardens\, 3601 Martin Luther King Junior\, Dallas\, TX\, United States
CATEGORIES:Calendar Event
ATTACH;FMTTYPE=image/jpeg:https://txdg.org/wp-content/uploads/2025/12/plant-prop-2026.jpeg
END:VEVENT
BEGIN:VEVENT
DTSTART;TZID=America/Chicago:20260207T100000
DTEND;TZID=America/Chicago:20260207T120000
DTSTAMP:20260421T005014
CREATED:20251202T161159Z
LAST-MODIFIED:20251202T161159Z
UID:10001395-1770458400-1770465600@txdg.org
SUMMARY:Discovery Days at TDG: Plant Propagation Workshop
DESCRIPTION:January 24\, 2026 OR February 7\, 2026\n10:30 AM- 11:30 AM \nMembers: $40\nNon-Members: $45 \nAdult Class\nRegistration Required \nTaking the Mystery Out of Plant Propagation\nUnravel the secrets of plant propagation in this hands-on workshop! \nLearn how to turn one plant into many using cuttings\, division\, and layering\, and discover the ABCs of seed collection\, storage\, and germination. \nYou’ll get to practice each method during the class\, and you’ll head home with your very own propagated cuttings to grow and nurture. \nBe sure to sign up as reservations are required!
URL:https://txdg.org/event/discovery-days-at-tdg-plant-propagation-workshop/2026-02-07/
LOCATION:Texas Discovery Gardens\, 3601 Martin Luther King Junior\, Dallas\, TX\, United States
CATEGORIES:Calendar Event
ATTACH;FMTTYPE=image/jpeg:https://txdg.org/wp-content/uploads/2025/12/plant-prop-2026.jpeg
END:VEVENT
BEGIN:VEVENT
DTSTART;TZID=America/Chicago:20260208T120000
DTEND;TZID=America/Chicago:20260208T130000
DTSTAMP:20260421T005014
CREATED:20260115T173214Z
LAST-MODIFIED:20260122T180722Z
UID:10001399-1770552000-1770555600@txdg.org
SUMMARY:Tea & Terrariums
DESCRIPTION:SOLD OUT! We’re sorry\, but all spots have been filled for this event.\n🌸 Tea & Terrariums: A Galentine’s Day Class 💐\n🗓️ Date: Sunday\, February 8\n⏰ Time: 12:00–1:00 PM\n🎂 Ages: Gals 18 +\n💝 Pricing:\n• Members: $40\n• Non-Members: $45\n• Gal Pals Bundle: $75 for two participants\n(All materials\, tea\, and desserts included)\n📍 Location: Texas Discovery Gardens\, Fair Park\, Dallas\, TX \nLooking for a fun\, cozy\, and creative way to celebrate Galentine’s Day? 💕\nGather your besties (or come make new ones!) and join Sollee & Sarah for a crafty afternoon of terrarium-making\, tea\, desserts\, and crafts! \n✨ Bonus perk:\nYour registration includes admission to Texas Discovery Gardens and the Butterfly House\, so you’re welcome to explore before or after class 🌿🦋 \n📞 Questions? Call 214-428-7476 ext. 1006 to learn more.\nRegistration Required – Registration is now closed! All spots have been filled. Thank you for your interest!
URL:https://txdg.org/event/tea-terrariums/
LOCATION:Texas Discovery Gardens\, 3601 Martin Luther King Junior\, Dallas\, TX\, United States
CATEGORIES:Calendar Event
ATTACH;FMTTYPE=image/png:https://txdg.org/wp-content/uploads/2026/01/d5cfc1d2-bf63-4087-8886-15b513219aec.png
END:VEVENT
BEGIN:VEVENT
DTSTART;TZID=America/Chicago:20260213T100000
DTEND;TZID=America/Chicago:20260213T130000
DTSTAMP:20260421T005014
CREATED:20260115T201018Z
LAST-MODIFIED:20260115T201018Z
UID:10001401-1770976800-1770987600@txdg.org
SUMMARY:Love Bug Craft Time
DESCRIPTION:💘🐞 Love Bug Craft Time! 🐞💘 \nStop by Friday\, Feb. 13 for a sweet\, hands-on craft activity perfect for little love bugs and their grown-ups! \n🕙 Craft Time: 10:00 AM – 1:00 PM\n✂️ Create adorable Love Bug crafts to take home \n🦋 Don’t miss our Butterfly Release at 12:00 PM!\nIt’s the perfect moment to pause\, watch\, and celebrate love in nature. \n📍 Texas Discovery Gardens\, Fair Park \nCome craft\, explore\, and fall in love with butterflies 💗🌿
URL:https://txdg.org/event/love-bug-craft-time/
LOCATION:Texas Discovery Gardens\, 3601 Martin Luther King Junior\, Dallas\, TX\, United States
CATEGORIES:Calendar Event
ATTACH;FMTTYPE=image/png:https://txdg.org/wp-content/uploads/2026/01/Love-Bug-Craft-time-1.png
END:VEVENT
BEGIN:VEVENT
DTSTART;TZID=America/Chicago:20260314T100000
DTEND;TZID=America/Chicago:20260314T130000
DTSTAMP:20260421T005014
CREATED:20260304T152011Z
LAST-MODIFIED:20260304T152011Z
UID:10001408-1773482400-1773493200@txdg.org
SUMMARY:Paint & Plant Workshop
DESCRIPTION:Free Community Event: Paint & Plant – March 14! \nJoin us on Saturday\, March 14\, 2026\, from 10:00 AM–1:00 PM (or while supplies last) for a FREE Paint & Plant event hosted by the American Conservation Coalition on the Front Walk outside Texas Discovery Gardens. \nParticipants will: \n\nPaint a flower pot\nPlant a small plant to take home\nCelebrate creativity and conservation\n\nAfterward\, show your painted pot at our entrance to receive half-off admission to explore the gardens. \nPlease note: This event is first-come\, first-served\, and supplies are limited. For more information and to sign up\, visit our Discovery Days page. \nWe can’t wait to see your creativity bloom!
URL:https://txdg.org/event/paint-plant-workshop/
LOCATION:Texas Discovery Gardens\, 3601 Martin Luther King Junior\, Dallas\, TX\, United States
CATEGORIES:Calendar Event
ATTACH;FMTTYPE=image/png:https://txdg.org/wp-content/uploads/2026/03/Paint_and_Plant.png
END:VEVENT
BEGIN:VEVENT
DTSTART;TZID=America/Chicago:20260320T100000
DTEND;TZID=America/Chicago:20260320T130000
DTSTAMP:20260421T005014
CREATED:20260304T152823Z
LAST-MODIFIED:20260313T141038Z
UID:10001409-1774000800-1774011600@txdg.org
SUMMARY:World's Largest Peanut on Wheels
DESCRIPTION:The world’s largest peanut on wheels!\nFriday\, March 20\n10:00 AM – 1:00 PM \nThe one-and-only Planters NUTmobile \, the world’s largest peanut on wheels\, is rolling into TDG! Learn more about the iconic peanut tour vehicle here: https://www.plantersnutmobile.com/ \n🚗 Step inside and explore the NUTmobile\n📸 Snap fun photos with the peanut on wheels\n🥜 Visit a small table with free samples \nAll day during the Planters Nutmobile Day\, admission to TDG will be BOGO\, buy one admission and get a second admission of same or lower value for FREE! For example\, buy an adult and get either a second adult or a child for FREE. Valid only on Friday March 20\, 2026.
URL:https://txdg.org/event/worlds-largest-peanut-on-wheels/
LOCATION:Texas Discovery Gardens\, 3601 Martin Luther King Junior\, Dallas\, TX\, United States
CATEGORIES:Calendar Event
ATTACH;FMTTYPE=image/png:https://txdg.org/wp-content/uploads/2026/03/PeanutOnWheels.png
END:VEVENT
END:VCALENDAR