BEGIN:VCALENDAR
VERSION:2.0
PRODID:-//Texas Discovery Gardens - ECPv6.15.20//NONSGML v1.0//EN
CALSCALE:GREGORIAN
METHOD:PUBLISH
X-ORIGINAL-URL:https://txdg.org
X-WR-CALDESC:Events for Texas Discovery Gardens
REFRESH-INTERVAL;VALUE=DURATION:PT1H
X-Robots-Tag:noindex
X-PUBLISHED-TTL:PT1H
BEGIN:VTIMEZONE
TZID:America/Chicago
BEGIN:DAYLIGHT
TZOFFSETFROM:-0600
TZOFFSETTO:-0500
TZNAME:CDT
DTSTART:20230312T080000
END:DAYLIGHT
BEGIN:STANDARD
TZOFFSETFROM:-0500
TZOFFSETTO:-0600
TZNAME:CST
DTSTART:20231105T070000
END:STANDARD
BEGIN:DAYLIGHT
TZOFFSETFROM:-0600
TZOFFSETTO:-0500
TZNAME:CDT
DTSTART:20240310T080000
END:DAYLIGHT
BEGIN:STANDARD
TZOFFSETFROM:-0500
TZOFFSETTO:-0600
TZNAME:CST
DTSTART:20241103T070000
END:STANDARD
BEGIN:DAYLIGHT
TZOFFSETFROM:-0600
TZOFFSETTO:-0500
TZNAME:CDT
DTSTART:20250309T080000
END:DAYLIGHT
BEGIN:STANDARD
TZOFFSETFROM:-0500
TZOFFSETTO:-0600
TZNAME:CST
DTSTART:20251102T070000
END:STANDARD
BEGIN:DAYLIGHT
TZOFFSETFROM:-0600
TZOFFSETTO:-0500
TZNAME:CDT
DTSTART:20260308T080000
END:DAYLIGHT
BEGIN:STANDARD
TZOFFSETFROM:-0500
TZOFFSETTO:-0600
TZNAME:CST
DTSTART:20261101T070000
END:STANDARD
BEGIN:DAYLIGHT
TZOFFSETFROM:-0600
TZOFFSETTO:-0500
TZNAME:CDT
DTSTART:20270314T080000
END:DAYLIGHT
BEGIN:STANDARD
TZOFFSETFROM:-0500
TZOFFSETTO:-0600
TZNAME:CST
DTSTART:20271107T070000
END:STANDARD
END:VTIMEZONE
BEGIN:VTIMEZONE
TZID:America/New_York
BEGIN:DAYLIGHT
TZOFFSETFROM:-0500
TZOFFSETTO:-0400
TZNAME:EDT
DTSTART:20220313T070000
END:DAYLIGHT
BEGIN:STANDARD
TZOFFSETFROM:-0400
TZOFFSETTO:-0500
TZNAME:EST
DTSTART:20221106T060000
END:STANDARD
BEGIN:DAYLIGHT
TZOFFSETFROM:-0500
TZOFFSETTO:-0400
TZNAME:EDT
DTSTART:20230312T070000
END:DAYLIGHT
BEGIN:STANDARD
TZOFFSETFROM:-0400
TZOFFSETTO:-0500
TZNAME:EST
DTSTART:20231105T060000
END:STANDARD
BEGIN:DAYLIGHT
TZOFFSETFROM:-0500
TZOFFSETTO:-0400
TZNAME:EDT
DTSTART:20240310T070000
END:DAYLIGHT
BEGIN:STANDARD
TZOFFSETFROM:-0400
TZOFFSETTO:-0500
TZNAME:EST
DTSTART:20241103T060000
END:STANDARD
END:VTIMEZONE
BEGIN:VEVENT
DTSTART;TZID=America/Chicago:20260402T130000
DTEND;TZID=America/Chicago:20260402T150000
DTSTAMP:20260421T211532
CREATED:20251107T171647Z
LAST-MODIFIED:20251107T171647Z
UID:10001389-1775134800-1775142000@txdg.org
SUMMARY:Homeschool Day: Naturalist Journals & Garden Adventures
DESCRIPTION:📅 April 2\, 2026 | 1–3 p.m.\n💲Members: Free | Non-Members: Included with admission \nWe will create recycled nature journals and learn now to fill them with thoughtful observations during a nature walk.
URL:https://txdg.org/event/homeschool-day-naturalist-journals-garden-adventures/
LOCATION:Texas Discovery Gardens\, 3601 Martin Luther King Junior\, Dallas\, TX\, United States
CATEGORIES:Homeschool
ATTACH;FMTTYPE=image/png:https://txdg.org/wp-content/uploads/2025/11/homeschooldayimg.png
END:VEVENT
BEGIN:VEVENT
DTSTART;TZID=America/Chicago:20260305T130000
DTEND;TZID=America/Chicago:20260305T150000
DTSTAMP:20260421T211532
CREATED:20251107T171227Z
LAST-MODIFIED:20251107T171227Z
UID:10001388-1772715600-1772722800@txdg.org
SUMMARY:Homeschool Day: Tree Story
DESCRIPTION:📅 March 5\, 2026 | 1–3 p.m.\n💲Members: Free | Non-Members: Included with admission \nWe’ll examine tree habitats layer by layer\, revealing the amazing ecosystems they support and their vital environmental roles.
URL:https://txdg.org/event/homeschool-day-tree-story/
LOCATION:Texas Discovery Gardens\, 3601 Martin Luther King Junior\, Dallas\, TX\, United States
CATEGORIES:Homeschool
ATTACH;FMTTYPE=image/png:https://txdg.org/wp-content/uploads/2025/11/homeschooldayimg.png
END:VEVENT
BEGIN:VEVENT
DTSTART;TZID=America/Chicago:20260205T130000
DTEND;TZID=America/Chicago:20260205T150000
DTSTAMP:20260421T211532
CREATED:20251107T171032Z
LAST-MODIFIED:20251107T171248Z
UID:10001387-1770296400-1770303600@txdg.org
SUMMARY:Homeschool Day: Butterfly Safari
DESCRIPTION:📅 February 5\, 2026 | 1–3 p.m.\n💲Members: Free | Non-Members: Included with admission \nJoin us as we journey through the Butterfly House in search of colorful wings\, fascinating behaviors\, and amazing adaptations.
URL:https://txdg.org/event/homeschool-day-butterfly-safari/
LOCATION:Texas Discovery Gardens\, 3601 Martin Luther King Junior\, Dallas\, TX\, United States
CATEGORIES:Homeschool
ATTACH;FMTTYPE=image/png:https://txdg.org/wp-content/uploads/2025/11/homeschooldayimg.png
END:VEVENT
BEGIN:VEVENT
DTSTART;TZID=America/Chicago:20260108T130000
DTEND;TZID=America/Chicago:20260108T150000
DTSTAMP:20260421T211532
CREATED:20251107T170221Z
LAST-MODIFIED:20251107T171312Z
UID:10001386-1767877200-1767884400@txdg.org
SUMMARY:Homeschool Day: Slimy Salamanders
DESCRIPTION:📅 January 8\, 2026 | 1–3 p.m.\n💲Members: Free | Non-Members: Included with admission \nLet’s learn about Salamanders and make slime to take home!
URL:https://txdg.org/event/homeschool-day-slimy-salamanders/
LOCATION:Texas Discovery Gardens\, 3601 Martin Luther King Junior\, Dallas\, TX\, United States
CATEGORIES:Homeschool
ATTACH;FMTTYPE=image/png:https://txdg.org/wp-content/uploads/2025/11/homeschooldayimg.png
END:VEVENT
BEGIN:VEVENT
DTSTART;TZID=America/Chicago:20251204T130000
DTEND;TZID=America/Chicago:20251204T150000
DTSTAMP:20260421T211532
CREATED:20251107T165434Z
LAST-MODIFIED:20251107T165434Z
UID:10001385-1764853200-1764860400@txdg.org
SUMMARY:Homeschool Day: Science of Hot Chocolate
DESCRIPTION:📅 December 4\, 2025 | 1–3 p.m.\n💲Members: Free | Non-Members: Included with admission \nWe’ll delve into the science behind hot chocolate\, exploring topics such as solubility\, mixtures\, temperature\, and states of matter. We’ll turn your favorite winter treat into a tasty science experiment!
URL:https://txdg.org/event/homeschool-day-science-of-hot-chocolate/
LOCATION:Texas Discovery Gardens\, 3601 Martin Luther King Junior\, Dallas\, TX\, United States
CATEGORIES:Homeschool
ATTACH;FMTTYPE=image/png:https://txdg.org/wp-content/uploads/2025/11/homeschooldayimg.png
END:VEVENT
BEGIN:VEVENT
DTSTART;TZID=America/Chicago:20241205T130000
DTEND;TZID=America/Chicago:20241205T150000
DTSTAMP:20260421T211532
CREATED:20241111T155630Z
LAST-MODIFIED:20241119T215055Z
UID:10000475-1733403600-1733410800@txdg.org
SUMMARY:Winter Gardens: December Home School Day
DESCRIPTION:December 5\, 2024\n1:00-3:00 PM \nLearn how animals adapt to winter\, study the unique characteristics of evergreen plants\, and make festive crafts using natural materials to celebrate the season. \nRegister for this event here!
URL:https://txdg.org/event/winter-gardens-december-home-school-day/
LOCATION:Texas Discovery Gardens\, 3601 Martin Luther King Junior\, Dallas\, TX\, United States
CATEGORIES:Homeschool
ATTACH;FMTTYPE=image/png:https://txdg.org/wp-content/uploads/2024/02/December-Homeschool-Day-2.png
END:VEVENT
BEGIN:VEVENT
DTSTART;TZID=America/Chicago:20241107T130000
DTEND;TZID=America/Chicago:20241107T150000
DTSTAMP:20260421T211532
CREATED:20240910T125130Z
LAST-MODIFIED:20240910T125130Z
UID:10000374-1730984400-1730991600@txdg.org
SUMMARY:Harvest Time - November Home School Day
DESCRIPTION:November 7\, 2024\n1:00 – 3:00 PM \nDiscover why leaves change color in autumn\, create your own scarecrow using natural and recycled materials\, and learn about the science behind falling leaves. \nRegistration for this event can be found here.
URL:https://txdg.org/event/harvest-time-november-home-school-day/
LOCATION:Texas Discovery Gardens\, 3601 Martin Luther King Junior\, Dallas\, TX\, United States
CATEGORIES:Homeschool
ATTACH;FMTTYPE=image/png:https://txdg.org/wp-content/uploads/2024/09/Homeschool-November-Harvest-Time.png
END:VEVENT
BEGIN:VEVENT
DTSTART;TZID=America/Chicago:20240801T130000
DTEND;TZID=America/Chicago:20240801T150000
DTSTAMP:20260421T211532
CREATED:20240724T195502Z
LAST-MODIFIED:20240903T180526Z
UID:10000360-1722517200-1722524400@txdg.org
SUMMARY:Homeschool Day: Nature Journaling Adventure
DESCRIPTION:Discover the Wonders of Nature! \nJoin us for Homeschool Day at TDG\, where learners of all ages can dive into the art of nature journaling. This interactive session will inspire children to observe\, sketch\, and record their discoveries in their very own nature journals. \nDate: Thursday\, August 1\, 2024\nTime: 1-3 PM\nLocation: TDG\nRSVP: msanchez@txdg.org to book your spot today!
URL:https://txdg.org/event/homeschool-day-nature-journaling-adventure/
LOCATION:Texas Discovery Gardens\, 3601 Martin Luther King Junior\, Dallas\, TX\, United States
CATEGORIES:Calendar Event,Homeschool
ATTACH;FMTTYPE=image/jpeg:https://txdg.org/wp-content/uploads/2024/07/August-Homeschool-day.pdf.jpg
END:VEVENT
BEGIN:VEVENT
DTSTART;TZID=America/Chicago:20240606T130000
DTEND;TZID=America/Chicago:20240606T150000
DTSTAMP:20260421T211532
CREATED:20240529T235429Z
LAST-MODIFIED:20240903T180527Z
UID:10000353-1717678800-1717686000@txdg.org
SUMMARY:June 2024 Homeschool Day
DESCRIPTION:🌊💧 Calling all Homeschoolers! Join us on Thursday\, June 6th at 1 PM for a cool exploration of the properties of water! 🌞🔬 \nAs the temperatures rise\, we’ll dive into fun\, hands-on experiments that reveal the amazing secrets of water. From floating paper clips to colorful capillary action\, discover how water works in our exciting summer science session.\nPerfect for curious minds and eager explorers—don’t miss! Included with General Admission. See you there! 👩‍🔬👨‍🔬 #HomeschoolDay #ScienceFun #WaterExperiments #TexasDiscoveryGardens #SummerLearning \n👉 Register now at education@txdg.org.
URL:https://txdg.org/event/june-2024-homeschool-day/
LOCATION:Texas Discovery Gardens\, 3601 Martin Luther King Junior\, Dallas\, TX\, United States
CATEGORIES:Calendar Event,Homeschool
ATTACH;FMTTYPE=image/png:https://txdg.org/wp-content/uploads/2024/05/Untitled-Instagram-Post.png
ORGANIZER;CN="Marisol Sanchez":MAILTO:education@txdg.org
END:VEVENT
BEGIN:VEVENT
DTSTART;TZID=America/New_York:20230907T140000
DTEND;TZID=America/New_York:20230907T150000
DTSTAMP:20260421T211532
CREATED:20230911T170453Z
LAST-MODIFIED:20230911T171312Z
UID:10000001-1694095200-1694098800@txdg.org
SUMMARY:Homeschool Day
DESCRIPTION:Texas Discovery Gardens\n3601 Martin Luther King Junior BoulevardDallas\, TX\, 75210United States (map)\nFor all homeschooled kids ages PK-12th grade with Guardian. \nEvery first Thursday of each month at 2pm. \nOutside in our gardens\, rain or shine. Please make sure to dress for the weather. \nEvery month will be a different topic! We’ll explore our topic while exploring the gardens with themed TEKS-based activities and crafts. Guided programs will last approximately one hour. After the program\, participants are welcome to explore the rest of the gardens and Butterfly House on their own until we close at 5pm. \nProgram Itinerary:\n2:00 – introduction/ice breaker activity\n2:15 – mindfulness activity\n2:20 – topic exploration including physical activity\n2:45 – craft or takeaway\n3:00 – individual exploration\nCOST: Nonmember: $10 per child\, $12 per adult\nFamily Membership or above: $10 per child\, free for member adult
URL:https://txdg.org/event/homeschool-day/
LOCATION:Texas Discovery Gardens\, 3601 Martin Luther King Junior\, Dallas\, TX\, United States
CATEGORIES:Field Trips,Homeschool
ATTACH;FMTTYPE=image/png:https://txdg.org/wp-content/uploads/2023/09/JoinusattheTexasDiscoveryGardens1080×1080px3.png
END:VEVENT
END:VCALENDAR