BEGIN:VCALENDAR
VERSION:2.0
PRODID:-//Texas Discovery Gardens - ECPv6.15.20//NONSGML v1.0//EN
CALSCALE:GREGORIAN
METHOD:PUBLISH
X-ORIGINAL-URL:https://txdg.org
X-WR-CALDESC:Events for Texas Discovery Gardens
REFRESH-INTERVAL;VALUE=DURATION:PT1H
X-Robots-Tag:noindex
X-PUBLISHED-TTL:PT1H
BEGIN:VTIMEZONE
TZID:America/Chicago
BEGIN:DAYLIGHT
TZOFFSETFROM:-0600
TZOFFSETTO:-0500
TZNAME:CDT
DTSTART:20240310T080000
END:DAYLIGHT
BEGIN:STANDARD
TZOFFSETFROM:-0500
TZOFFSETTO:-0600
TZNAME:CST
DTSTART:20241103T070000
END:STANDARD
BEGIN:DAYLIGHT
TZOFFSETFROM:-0600
TZOFFSETTO:-0500
TZNAME:CDT
DTSTART:20250309T080000
END:DAYLIGHT
BEGIN:STANDARD
TZOFFSETFROM:-0500
TZOFFSETTO:-0600
TZNAME:CST
DTSTART:20251102T070000
END:STANDARD
BEGIN:DAYLIGHT
TZOFFSETFROM:-0600
TZOFFSETTO:-0500
TZNAME:CDT
DTSTART:20260308T080000
END:DAYLIGHT
BEGIN:STANDARD
TZOFFSETFROM:-0500
TZOFFSETTO:-0600
TZNAME:CST
DTSTART:20261101T070000
END:STANDARD
END:VTIMEZONE
BEGIN:VEVENT
DTSTART;TZID=America/Chicago:20250111T100000
DTEND;TZID=America/Chicago:20250111T140000
DTSTAMP:20260423T083408
CREATED:20250102T152111Z
LAST-MODIFIED:20250102T152111Z
UID:10000479-1736589600-1736604000@txdg.org
SUMMARY:January House and Patio Plant Sale
DESCRIPTION:Kick off the new year by bringing some vibrant greenery into your life! \nTexas Discovery Gardens invites you to our House and Patio Plant Sale on Saturday\, January 11th\, from 10:00 AM to 2:00 PM in the Grand Hall. Discover an incredible selection of rare and hard-to-find houseplants\, perfect for adding charm and vitality to your home or patio. From striking aloes and hardy succulents to elegant Sansevierias and cascading Sedums\, there’s something to inspire every plant lover. \nWhether you’re a seasoned green thumb or just starting your plant collection\, our sale offers unique options to fit every space and style. Our expert staff will be on hand to answer questions and guide you in selecting the perfect plants for your needs. Don’t miss this opportunity to find your next botanical treasure and support Texas Discovery Gardens in our mission to promote sustainable gardening and environmental education. See you there! \nFor more information and the Plant List\, please visit our Plant Sale page. \nPARKING: Since the House Plant Sale will be held in the Grand Hall\, please enter Gate 6\, park in the TDG Lot 6B and walk to the main front entrance. Please do not park anywhere else as parking restrictions are in place on the various streets adjacent to TDG.
URL:https://txdg.org/event/january-house-and-patio-plant-sale/
LOCATION:Texas Discovery Gardens\, 3601 Martin Luther King Junior\, Dallas\, TX\, United States
CATEGORIES:Plant Sale
ATTACH;FMTTYPE=image/jpeg:https://txdg.org/wp-content/uploads/2024/02/Houseplant-Kalanchoe-laxiflora-2024-01-24_114631-1-scaled.jpg
END:VEVENT
END:VCALENDAR