BEGIN:VCALENDAR
VERSION:2.0
PRODID:-//Texas Discovery Gardens - ECPv6.15.20//NONSGML v1.0//EN
CALSCALE:GREGORIAN
METHOD:PUBLISH
X-WR-CALNAME:Texas Discovery Gardens
X-ORIGINAL-URL:https://txdg.org
X-WR-CALDESC:Events for Texas Discovery Gardens
REFRESH-INTERVAL;VALUE=DURATION:PT1H
X-Robots-Tag:noindex
X-PUBLISHED-TTL:PT1H
BEGIN:VTIMEZONE
TZID:America/New_York
BEGIN:DAYLIGHT
TZOFFSETFROM:-0500
TZOFFSETTO:-0400
TZNAME:EDT
DTSTART:20230312T070000
END:DAYLIGHT
BEGIN:STANDARD
TZOFFSETFROM:-0400
TZOFFSETTO:-0500
TZNAME:EST
DTSTART:20231105T060000
END:STANDARD
BEGIN:DAYLIGHT
TZOFFSETFROM:-0500
TZOFFSETTO:-0400
TZNAME:EDT
DTSTART:20240310T070000
END:DAYLIGHT
BEGIN:STANDARD
TZOFFSETFROM:-0400
TZOFFSETTO:-0500
TZNAME:EST
DTSTART:20241103T060000
END:STANDARD
BEGIN:DAYLIGHT
TZOFFSETFROM:-0500
TZOFFSETTO:-0400
TZNAME:EDT
DTSTART:20250309T070000
END:DAYLIGHT
BEGIN:STANDARD
TZOFFSETFROM:-0400
TZOFFSETTO:-0500
TZNAME:EST
DTSTART:20251102T060000
END:STANDARD
END:VTIMEZONE
BEGIN:VEVENT
DTSTART;TZID=America/New_York:20240208T110000
DTEND;TZID=America/New_York:20240213T160000
DTSTAMP:20260424T032418
CREATED:20240206T213114Z
LAST-MODIFIED:20240213T171130Z
UID:10000011-1707390000-1707840000@txdg.org
SUMMARY:Patio and Houseplant Plant Sale
DESCRIPTION:Patio and Houseplant Sale\nJust in time for Valentine’s Day! \nThursday to Wednesday\, February 8th to 14 13th\, 2024: 11:00 am to 4:00 pm. \n(Sorry\, this Spring Sale was so successful we’re having to end it on Tuesday Feb 13th. Stay tuned for the next upcoming sale!) \nJoin us in the Grand Hall to shop a beautiful selection of plants for your living room\, workspace\, or home office. \nChoose from succulents\, airplane plants\, terrarium plants\, and many more!
URL:https://txdg.org/event/patio-and-houseplant-plant-sale/
LOCATION:Texas Discovery Gardens\, 3601 Martin Luther King Junior\, Dallas\, TX\, United States
CATEGORIES:Plant Sale
ATTACH;FMTTYPE=image/jpeg:https://txdg.org/wp-content/uploads/2024/02/Houseplant-Haworthia-thumb-1.jpg
END:VEVENT
END:VCALENDAR