BEGIN:VCALENDAR
VERSION:2.0
PRODID:-//Texas Discovery Gardens - ECPv6.15.20//NONSGML v1.0//EN
CALSCALE:GREGORIAN
METHOD:PUBLISH
X-ORIGINAL-URL:https://txdg.org
X-WR-CALDESC:Events for Texas Discovery Gardens
REFRESH-INTERVAL;VALUE=DURATION:PT1H
X-Robots-Tag:noindex
X-PUBLISHED-TTL:PT1H
BEGIN:VTIMEZONE
TZID:America/Chicago
BEGIN:DAYLIGHT
TZOFFSETFROM:-0600
TZOFFSETTO:-0500
TZNAME:CDT
DTSTART:20230312T080000
END:DAYLIGHT
BEGIN:STANDARD
TZOFFSETFROM:-0500
TZOFFSETTO:-0600
TZNAME:CST
DTSTART:20231105T070000
END:STANDARD
BEGIN:DAYLIGHT
TZOFFSETFROM:-0600
TZOFFSETTO:-0500
TZNAME:CDT
DTSTART:20240310T080000
END:DAYLIGHT
BEGIN:STANDARD
TZOFFSETFROM:-0500
TZOFFSETTO:-0600
TZNAME:CST
DTSTART:20241103T070000
END:STANDARD
BEGIN:DAYLIGHT
TZOFFSETFROM:-0600
TZOFFSETTO:-0500
TZNAME:CDT
DTSTART:20250309T080000
END:DAYLIGHT
BEGIN:STANDARD
TZOFFSETFROM:-0500
TZOFFSETTO:-0600
TZNAME:CST
DTSTART:20251102T070000
END:STANDARD
END:VTIMEZONE
BEGIN:VEVENT
DTSTART;VALUE=DATE:20241102
DTEND;VALUE=DATE:20241103
DTSTAMP:20260423T151205
CREATED:20241015T155207Z
LAST-MODIFIED:20241025T211419Z
UID:10000375-1730505600-1730591999@txdg.org
SUMMARY:November Plant Sale Pickup
DESCRIPTION:November 2\, 2024 Plant Sale Pickup\n(Pre-Order Online is CLOSED!)\nPick up your order on November 2\, 2024\, between 9am and 12pm.\nPre-Order Sale included Cacti\, Shrubs\, Shade Trees\, and Ornamentals.\nOn November 2nd\, there will also be perennials and fall-blooming annuals for purchase onsite. \nOur volunteers and staff work throughout the year to bring you a fantastic selection of plants for our sales! If you are looking for tough-to-find Texas natives\, caterpillar host plants\, or nectar-producing flowers to attract hummingbirds to your patio\, we have it! \n 
URL:https://txdg.org/event/november-plant-sale-pre-order-online-now/
LOCATION:Texas Discovery Gardens\, 3601 Martin Luther King Junior\, Dallas\, TX\, United States
CATEGORIES:Plant Sale
ATTACH;FMTTYPE=image/jpeg:https://txdg.org/wp-content/uploads/2024/10/yucca_bbend.jpg
END:VEVENT
END:VCALENDAR