BEGIN:VCALENDAR
VERSION:2.0
PRODID:-//Texas Discovery Gardens - ECPv6.15.20//NONSGML v1.0//EN
CALSCALE:GREGORIAN
METHOD:PUBLISH
X-WR-CALNAME:Texas Discovery Gardens
X-ORIGINAL-URL:https://txdg.org
X-WR-CALDESC:Events for Texas Discovery Gardens
REFRESH-INTERVAL;VALUE=DURATION:PT1H
X-Robots-Tag:noindex
X-PUBLISHED-TTL:PT1H
BEGIN:VTIMEZONE
TZID:America/Chicago
BEGIN:DAYLIGHT
TZOFFSETFROM:-0600
TZOFFSETTO:-0500
TZNAME:CDT
DTSTART:20240310T080000
END:DAYLIGHT
BEGIN:STANDARD
TZOFFSETFROM:-0500
TZOFFSETTO:-0600
TZNAME:CST
DTSTART:20241103T070000
END:STANDARD
BEGIN:DAYLIGHT
TZOFFSETFROM:-0600
TZOFFSETTO:-0500
TZNAME:CDT
DTSTART:20250309T080000
END:DAYLIGHT
BEGIN:STANDARD
TZOFFSETFROM:-0500
TZOFFSETTO:-0600
TZNAME:CST
DTSTART:20251102T070000
END:STANDARD
BEGIN:DAYLIGHT
TZOFFSETFROM:-0600
TZOFFSETTO:-0500
TZNAME:CDT
DTSTART:20260308T080000
END:DAYLIGHT
BEGIN:STANDARD
TZOFFSETFROM:-0500
TZOFFSETTO:-0600
TZNAME:CST
DTSTART:20261101T070000
END:STANDARD
END:VTIMEZONE
BEGIN:VEVENT
DTSTART;TZID=America/Chicago:20250510T090000
DTEND;TZID=America/Chicago:20250510T130000
DTSTAMP:20260421T040646
CREATED:20250502T185023Z
LAST-MODIFIED:20250502T185023Z
UID:10001366-1746867600-1746882000@txdg.org
SUMMARY:Spring Plant Sale
DESCRIPTION:Saturday\, May 10th\, 9:00 am – 1:00 pm\nONE DAY ONLY! Mark your calendars now.\nOur volunteers and staff work throughout the year to bring you a fantastic selection of plants for our sales! We are proud to offer one of the largest selections of Native and Adapted Texas plants in the Metroplex. Chances are\, if you’re looking for a specific\, tough to find host\, pollinator\, or nectar plant\, we have it! \nOur knowledgeable staff will be available to help you choose the perfect plants and share care tips to keep them thriving. Don’t miss this opportunity to grow your collection and experience the latest updates at Texas Discovery Gardens! \nPARKING: Enter Gate 6\, turn right on Second Ave\, then turn left on Pennsylvania\, then turn left on First Ave and park in Lot 9 to your right. \nPlease let Fair Park parking attendants know that you are here for the plant sale. Free parking is available in lot 9C\, located on the east side of the gardens and across from the nursery. \nFor more information\, visit our Plant Sale Page.
URL:https://txdg.org/event/spring-plant-sale/
LOCATION:Texas Discovery Gardens\, 3601 Martin Luther King Junior\, Dallas\, TX\, United States
CATEGORIES:Plant Sale
ATTACH;FMTTYPE=image/jpeg:https://txdg.org/wp-content/uploads/2025/01/discoverygardens-1-scaled.jpg
END:VEVENT
END:VCALENDAR