BEGIN:VCALENDAR
VERSION:2.0
PRODID:-//Texas Discovery Gardens - ECPv6.15.20//NONSGML v1.0//EN
CALSCALE:GREGORIAN
METHOD:PUBLISH
X-WR-CALNAME:Texas Discovery Gardens
X-ORIGINAL-URL:https://txdg.org
X-WR-CALDESC:Events for Texas Discovery Gardens
REFRESH-INTERVAL;VALUE=DURATION:PT1H
X-Robots-Tag:noindex
X-PUBLISHED-TTL:PT1H
BEGIN:VTIMEZONE
TZID:America/New_York
BEGIN:DAYLIGHT
TZOFFSETFROM:-0500
TZOFFSETTO:-0400
TZNAME:EDT
DTSTART:20230312T070000
END:DAYLIGHT
BEGIN:STANDARD
TZOFFSETFROM:-0400
TZOFFSETTO:-0500
TZNAME:EST
DTSTART:20231105T060000
END:STANDARD
BEGIN:DAYLIGHT
TZOFFSETFROM:-0500
TZOFFSETTO:-0400
TZNAME:EDT
DTSTART:20240310T070000
END:DAYLIGHT
BEGIN:STANDARD
TZOFFSETFROM:-0400
TZOFFSETTO:-0500
TZNAME:EST
DTSTART:20241103T060000
END:STANDARD
BEGIN:DAYLIGHT
TZOFFSETFROM:-0500
TZOFFSETTO:-0400
TZNAME:EDT
DTSTART:20250309T070000
END:DAYLIGHT
BEGIN:STANDARD
TZOFFSETFROM:-0400
TZOFFSETTO:-0500
TZNAME:EST
DTSTART:20251102T060000
END:STANDARD
END:VTIMEZONE
BEGIN:VEVENT
DTSTART;TZID=America/New_York:20240406T100000
DTEND;TZID=America/New_York:20240406T120000
DTSTAMP:20260423T113813
CREATED:20240328T132332Z
LAST-MODIFIED:20240404T210447Z
UID:10000350-1712397600-1712404800@txdg.org
SUMMARY:Start a Pollinator Garden Workshop
DESCRIPTION:April 6\, 2024 : 10:00 am \nHave you been wanting to start your own pollinator plant garden? Come learn how to get yours set up and what pollinators love most! \nLED BY: \nRoseann Ferguson & Keaton Hutto \nINCLUDES: \n\nReady to plant “Starter Garden”\nWith 20 established pollinators plants! ($80 value)\n\n$64 FOR TDG MEMBERS | $75 FOR NON-MEMBERS. \nThis is a registered event\, and is now SOLD OUT!\nCheck back again soon for more workshops!
URL:https://txdg.org/event/start-a-pollinator-garden-workshop/
LOCATION:Texas Discovery Gardens\, 3601 Martin Luther King Junior\, Dallas\, TX\, United States
CATEGORIES:Workshops
ATTACH;FMTTYPE=image/png:https://txdg.org/wp-content/uploads/2024/03/2a8d28ba-2805-4dff-88f8-58fe38e60600.png
END:VEVENT
END:VCALENDAR