BEGIN:VCALENDAR
VERSION:2.0
PRODID:-//Texas Discovery Gardens - ECPv6.15.20//NONSGML v1.0//EN
CALSCALE:GREGORIAN
METHOD:PUBLISH
X-ORIGINAL-URL:https://txdg.org
X-WR-CALDESC:Events for Texas Discovery Gardens
REFRESH-INTERVAL;VALUE=DURATION:PT1H
X-Robots-Tag:noindex
X-PUBLISHED-TTL:PT1H
BEGIN:VTIMEZONE
TZID:America/Chicago
BEGIN:DAYLIGHT
TZOFFSETFROM:-0600
TZOFFSETTO:-0500
TZNAME:CDT
DTSTART:20230312T080000
END:DAYLIGHT
BEGIN:STANDARD
TZOFFSETFROM:-0500
TZOFFSETTO:-0600
TZNAME:CST
DTSTART:20231105T070000
END:STANDARD
BEGIN:DAYLIGHT
TZOFFSETFROM:-0600
TZOFFSETTO:-0500
TZNAME:CDT
DTSTART:20240310T080000
END:DAYLIGHT
BEGIN:STANDARD
TZOFFSETFROM:-0500
TZOFFSETTO:-0600
TZNAME:CST
DTSTART:20241103T070000
END:STANDARD
BEGIN:DAYLIGHT
TZOFFSETFROM:-0600
TZOFFSETTO:-0500
TZNAME:CDT
DTSTART:20250309T080000
END:DAYLIGHT
BEGIN:STANDARD
TZOFFSETFROM:-0500
TZOFFSETTO:-0600
TZNAME:CST
DTSTART:20251102T070000
END:STANDARD
END:VTIMEZONE
BEGIN:VEVENT
DTSTART;TZID=America/Chicago:20241207T100000
DTEND;TZID=America/Chicago:20241207T120000
DTSTAMP:20260421T004622
CREATED:20241101T190534Z
LAST-MODIFIED:20241206T204055Z
UID:10000377-1733565600-1733572800@txdg.org
SUMMARY:Discovery Days: Winter Wreath Workshop
DESCRIPTION:December 7: 10am – 12pm \nJoin us at Texas Discovery Gardens for a special hands-on wreath-making class that connects you to nature! \nParticipants will stroll through our beautiful gardens\, collecting their own natural materials to create a stunning\, one-of-a-kind wreath. \nThis adult education class is perfect for anyone looking to add a personal\, eco-friendly touch to their holiday decor. Whether you’re crafting for your home or as a heartfelt gift\, this experience is sure to inspire creativity and joy. All skill levels are welcome! \n\nDiscovery Days Educator: Rosanne Furgeson. \nDesigned for Ages 18+. \nTDG Members: Class and materials fee $40\nNon-Members: Class and materials fee $45\n\nSign up Online Now!
URL:https://txdg.org/event/discovery-days-fall-wreath-workshop/
LOCATION:Texas Discovery Gardens\, 3601 Martin Luther King Junior\, Dallas\, TX\, United States
CATEGORIES:Workshops
ATTACH;FMTTYPE=image/png:https://txdg.org/wp-content/uploads/2024/11/Winter-Wreath.png
END:VEVENT
BEGIN:VEVENT
DTSTART;TZID=America/Chicago:20241207T100000
DTEND;TZID=America/Chicago:20241207T120000
DTSTAMP:20260421T004622
CREATED:20241111T151750Z
LAST-MODIFIED:20241206T204125Z
UID:10000474-1733565600-1733572800@txdg.org
SUMMARY:Discovery Days December: Crafts and Cocoa
DESCRIPTION:December 7th: 10am-12pm \nFor ages 5-13 | $45 non-members\, $40 members \nGet cozy with hot cocoa\, cookies\, and eco-friendly fun! Kids will create winter-inspired ornaments with natural and recycled materials. Plus\, we’ll dive into a unique STEM activity: designing a sleigh for our hissing cockroach friends! Join us for the fun! \nSign Up Online Now!
URL:https://txdg.org/event/discovery-days-december-crafts-and-cocoa/
LOCATION:Texas Discovery Gardens\, 3601 Martin Luther King Junior\, Dallas\, TX\, United States
CATEGORIES:Workshops
ATTACH;FMTTYPE=image/png:https://txdg.org/wp-content/uploads/2024/11/Dec-disc-days.png
END:VEVENT
END:VCALENDAR