BEGIN:VCALENDAR
VERSION:2.0
PRODID:-//Texas Discovery Gardens - ECPv6.15.20//NONSGML v1.0//EN
CALSCALE:GREGORIAN
METHOD:PUBLISH
X-ORIGINAL-URL:https://txdg.org
X-WR-CALDESC:Events for Texas Discovery Gardens
REFRESH-INTERVAL;VALUE=DURATION:PT1H
X-Robots-Tag:noindex
X-PUBLISHED-TTL:PT1H
BEGIN:VTIMEZONE
TZID:America/Chicago
BEGIN:DAYLIGHT
TZOFFSETFROM:-0600
TZOFFSETTO:-0500
TZNAME:CDT
DTSTART:20250309T080000
END:DAYLIGHT
BEGIN:STANDARD
TZOFFSETFROM:-0500
TZOFFSETTO:-0600
TZNAME:CST
DTSTART:20251102T070000
END:STANDARD
BEGIN:DAYLIGHT
TZOFFSETFROM:-0600
TZOFFSETTO:-0500
TZNAME:CDT
DTSTART:20260308T080000
END:DAYLIGHT
BEGIN:STANDARD
TZOFFSETFROM:-0500
TZOFFSETTO:-0600
TZNAME:CST
DTSTART:20261101T070000
END:STANDARD
BEGIN:DAYLIGHT
TZOFFSETFROM:-0600
TZOFFSETTO:-0500
TZNAME:CDT
DTSTART:20270314T080000
END:DAYLIGHT
BEGIN:STANDARD
TZOFFSETFROM:-0500
TZOFFSETTO:-0600
TZNAME:CST
DTSTART:20271107T070000
END:STANDARD
END:VTIMEZONE
BEGIN:VEVENT
DTSTART;TZID=America/Chicago:20260507T130000
DTEND;TZID=America/Chicago:20260507T150000
DTSTAMP:20260421T040214
CREATED:20251107T171857Z
LAST-MODIFIED:20251107T171934Z
UID:10001390-1778158800-1778166000@txdg.org
SUMMARY:Homeschool Day: Sneaky Snakes
DESCRIPTION:📅 May 7\, 2026 | 1–3 p.m.\n💲Members: Free | Non-Members: Included with admission \nExplore the secret lives of snakes! Discover why some harmless snakes look like venomous ones land how they disappear into their surroundings. \nWe’ll learn about their clever survival tricks and meet some scaly friends up close!
URL:https://txdg.org/event/homeschool-day-sneaky-snakes/
LOCATION:Texas Discovery Gardens\, 3601 Martin Luther King Junior\, Dallas\, TX\, United States
CATEGORIES:Homeschool
ATTACH;FMTTYPE=image/png:https://txdg.org/wp-content/uploads/2025/11/homeschooldayimg.png
END:VEVENT
BEGIN:VEVENT
DTSTART;TZID=America/Chicago:20260601T090000
DTEND;TZID=America/Chicago:20260605T150000
DTSTAMP:20260421T040214
CREATED:20260206T170431Z
LAST-MODIFIED:20260206T170432Z
UID:10001402-1780304400-1780671600@txdg.org
SUMMARY:Discovery Crew: Teen Leadership Summer Program\, Ages 13-17
DESCRIPTION:Dates: June 1–5\, 2026\nAges: 13-17\nMorning Camp Session: 9:00 a.m. – 12:30 p.m.\nOptional Afternoon Volunteer Session: 1:00 p.m. – 3:00 p.m. \nPricing: \n\nMembers: $175\nNon-Members: $200\nLunch is included in pricing.\n\nPlease see our Summer Camp Sessions page for more information or to register!
URL:https://txdg.org/event/discovery-crew-teen-leadership-summer-program-ages-13-17/
LOCATION:Texas Discovery Gardens\, 3601 Martin Luther King Junior\, Dallas\, TX\, United States
CATEGORIES:TDG Summer Camps
ATTACH;FMTTYPE=image/jpeg:https://txdg.org/wp-content/uploads/2024/08/Photo-Jul-11-2024-10-04-04-AM-scaled.jpg
END:VEVENT
BEGIN:VEVENT
DTSTART;TZID=America/Chicago:20260604T130000
DTEND;TZID=America/Chicago:20260604T150000
DTSTAMP:20260421T040214
CREATED:20251107T172016Z
LAST-MODIFIED:20251107T172016Z
UID:10001391-1780578000-1780585200@txdg.org
SUMMARY:Homeschool Day: Bug Hunt
DESCRIPTION:📅 June 4\, 2026 | 1–3 p.m.\n💲Members: Free | Non-Members: Included with admission \nIt’s time for our annual homeschool bug hunt! \nJoin us as we learn all about insects and head into the garden to see what fascinating bugs we can find.
URL:https://txdg.org/event/homeschool-day-bug-hunt/
LOCATION:Texas Discovery Gardens\, 3601 Martin Luther King Junior\, Dallas\, TX\, United States
CATEGORIES:Homeschool
ATTACH;FMTTYPE=image/png:https://txdg.org/wp-content/uploads/2025/11/homeschooldayimg.png
END:VEVENT
BEGIN:VEVENT
DTSTART;TZID=America/Chicago:20260608T090000
DTEND;TZID=America/Chicago:20260612T150000
DTSTAMP:20260421T040214
CREATED:20260206T170954Z
LAST-MODIFIED:20260206T170955Z
UID:10001403-1780909200-1781276400@txdg.org
SUMMARY:Habitat Safari: Summer Camp\, Ages 5-6
DESCRIPTION:Habitat Safari | June 8–12\, 2026\nAges 5-6 \nHabitat Safari takes young explorers on a journey through various natural habitats. Campers will discover how plants and animals survive in forests\, wetlands\, deserts\, and gardens through hands-on activities\, sensory exploration\, crafts\, and outdoor scavenger hunts. This camp builds early science skills through play and exploration. \nPlease see our Summer Camp Sessions page for more information or to register!
URL:https://txdg.org/event/habitat-safari-summer-camp-ages-5-6/
LOCATION:Texas Discovery Gardens\, 3601 Martin Luther King Junior\, Dallas\, TX\, United States
CATEGORIES:TDG Summer Camps
ATTACH;FMTTYPE=image/jpeg:https://txdg.org/wp-content/uploads/2025/07/Photo-Jun-10-2024-9-52-07-AM.jpg
END:VEVENT
BEGIN:VEVENT
DTSTART;TZID=America/Chicago:20260615T090000
DTEND;TZID=America/Chicago:20260619T150000
DTSTAMP:20260421T040214
CREATED:20260206T172218Z
LAST-MODIFIED:20260206T172218Z
UID:10001404-1781514000-1781881200@txdg.org
SUMMARY:Bug Squad Adventures: Summer Camp\, Ages 7-9
DESCRIPTION:Bug Squad Adventures | June 15–19\, 2026\nAges 7-9 \nBug Squad Adventures combines STEAM activities with hands-on insect exploration. Campers learn about bugs and ecosystems through live insect encounters\, outdoor bug hunts\, and problem-solving challenges. Teamwork\, curiosity\, and creativity are encouraged throughout the week. \nPlease see our Summer Camp Sessions page for more information or to register!
URL:https://txdg.org/event/bug-squad-adventures-summer-camp-ages-7-9/
LOCATION:Texas Discovery Gardens\, 3601 Martin Luther King Junior\, Dallas\, TX\, United States
CATEGORIES:TDG Summer Camps
ATTACH;FMTTYPE=image/jpeg:https://txdg.org/wp-content/uploads/2025/01/Photo-Jun-21-2024-10-31-50-AM-scaled.jpg
END:VEVENT
BEGIN:VEVENT
DTSTART;TZID=America/Chicago:20260622T090000
DTEND;TZID=America/Chicago:20260626T150000
DTSTAMP:20260421T040214
CREATED:20260206T172824Z
LAST-MODIFIED:20260206T172825Z
UID:10001405-1782118800-1782486000@txdg.org
SUMMARY:Habitat Guardians: Summer Camp\, Ages 10-12
DESCRIPTION:Habitat Guardians | June 22–26\, 2026\nAges 10-12 \nHabitat Guardians empowers campers to think about wildlife and the habitats they depend on. Through hands-on activities\, campers explore how human actions affect wildlife and how individuals and communities can help protect ecosystems. This camp emphasizes stewardship\, problem-solving\, and real-world conservation thinking. \nPlease see our Summer Camp Sessions page for more information or to register!
URL:https://txdg.org/event/habitat-guardians-summer-camp-ages-10-12/
LOCATION:Texas Discovery Gardens\, 3601 Martin Luther King Junior\, Dallas\, TX\, United States
CATEGORIES:TDG Summer Camps
ATTACH;FMTTYPE=image/jpeg:https://txdg.org/wp-content/uploads/2023/10/Untitleddesign3.jpg
END:VEVENT
BEGIN:VEVENT
DTSTART;TZID=America/Chicago:20260702T130000
DTEND;TZID=America/Chicago:20260702T150000
DTSTAMP:20260421T040214
CREATED:20251107T172139Z
LAST-MODIFIED:20251107T172139Z
UID:10001392-1782997200-1783004400@txdg.org
SUMMARY:Homeschool Day: Plant Safari
DESCRIPTION:📅 July 2\, 2026 | 1–3 p.m.\n💲Members: Free | Non-Members: Included with admission \nEmbark on a leafy adventure through our tropical conservatory! Discover unique plants from around the world\, and learn how they survive in the rainforest.
URL:https://txdg.org/event/homeschool-day-plant-safari/
LOCATION:Texas Discovery Gardens\, 3601 Martin Luther King Junior\, Dallas\, TX\, United States
CATEGORIES:Homeschool
ATTACH;FMTTYPE=image/png:https://txdg.org/wp-content/uploads/2025/11/homeschooldayimg.png
END:VEVENT
BEGIN:VEVENT
DTSTART;TZID=America/Chicago:20260706T090000
DTEND;TZID=America/Chicago:20260710T150000
DTSTAMP:20260421T040214
CREATED:20260206T173849Z
LAST-MODIFIED:20260206T173849Z
UID:10001406-1783328400-1783695600@txdg.org
SUMMARY:Animal Adventures\, Summer Camp\, Ages 5-6
DESCRIPTION:Animal Adventures | July 6–10\, 2026\nAges 5-6 \nAnimal Adventures invites campers to explore the amazing world of animals\, from insects and birds to reptiles and mammals. Through animal-themed crafts\, hands-on investigations\, storytelling\, and outdoor exploration\, campers will learn about animal needs\, behaviors\, and habitats. Designed for young learners\, this camp encourages curiosity and creativity. \nPlease see our Summer Camp Sessions page for more information or to register!
URL:https://txdg.org/event/animal-adventures-summer-camp-ages-5-6/
LOCATION:Texas Discovery Gardens\, 3601 Martin Luther King Junior\, Dallas\, TX\, United States
CATEGORIES:TDG Summer Camps
ATTACH;FMTTYPE=image/jpeg:https://txdg.org/wp-content/uploads/2025/07/Photo-Jun-10-2024-9-52-07-AM.jpg
END:VEVENT
BEGIN:VEVENT
DTSTART;TZID=America/Chicago:20260713T090000
DTEND;TZID=America/Chicago:20260717T150000
DTSTAMP:20260421T040214
CREATED:20260206T174138Z
LAST-MODIFIED:20260324T203601Z
UID:10001407-1783933200-1784300400@txdg.org
SUMMARY:Nature Navigators: Summer Camp\, Ages 7-9
DESCRIPTION:Nature Navigators | July 13–17\, 2026\nAges 7-9\nTHIS SESSION IS NOW FULL! \nNature Navigators challenges campers to explore the gardens like real explorers. Through habitat investigations\, challenges\, and outdoor discovery\, campers will learn how plants\, animals\, and landscapes are connected. This camp builds observation skills\, environmental awareness\, and confidence outdoors. \nPlease see our Summer Camp Sessions page for more information or to register!
URL:https://txdg.org/event/nature-navigators-summer-camp-ages-7-9/
LOCATION:Texas Discovery Gardens\, 3601 Martin Luther King Junior\, Dallas\, TX\, United States
CATEGORIES:TDG Summer Camps
ATTACH;FMTTYPE=image/jpeg:https://txdg.org/wp-content/uploads/2025/01/Photo-Jun-21-2024-10-31-50-AM-scaled.jpg
END:VEVENT
BEGIN:VEVENT
DTSTART;TZID=America/Chicago:20260806T130000
DTEND;TZID=America/Chicago:20260806T150000
DTSTAMP:20260421T040214
CREATED:20251107T172321Z
LAST-MODIFIED:20251107T172321Z
UID:10001393-1786021200-1786028400@txdg.org
SUMMARY:Homeschool Day: Terrific Texas
DESCRIPTION:📅 August 6\, 2026 | 1–3 p.m.\n💲Members: Free | Non-Members: Included with admission \nExplore nature that makes our state truly terrific!
URL:https://txdg.org/event/homeschool-day-terrific-texas/
LOCATION:Texas Discovery Gardens\, 3601 Martin Luther King Junior\, Dallas\, TX\, United States
CATEGORIES:Homeschool
ATTACH;FMTTYPE=image/png:https://txdg.org/wp-content/uploads/2025/11/homeschooldayimg.png
END:VEVENT
END:VCALENDAR