BEGIN:VCALENDAR
VERSION:2.0
PRODID:-//Texas Discovery Gardens - ECPv6.15.20//NONSGML v1.0//EN
CALSCALE:GREGORIAN
METHOD:PUBLISH
X-WR-CALNAME:Texas Discovery Gardens
X-ORIGINAL-URL:https://txdg.org
X-WR-CALDESC:Events for Texas Discovery Gardens
REFRESH-INTERVAL;VALUE=DURATION:PT1H
X-Robots-Tag:noindex
X-PUBLISHED-TTL:PT1H
BEGIN:VTIMEZONE
TZID:America/Chicago
BEGIN:DAYLIGHT
TZOFFSETFROM:-0600
TZOFFSETTO:-0500
TZNAME:CDT
DTSTART:20230312T080000
END:DAYLIGHT
BEGIN:STANDARD
TZOFFSETFROM:-0500
TZOFFSETTO:-0600
TZNAME:CST
DTSTART:20231105T070000
END:STANDARD
BEGIN:DAYLIGHT
TZOFFSETFROM:-0600
TZOFFSETTO:-0500
TZNAME:CDT
DTSTART:20240310T080000
END:DAYLIGHT
BEGIN:STANDARD
TZOFFSETFROM:-0500
TZOFFSETTO:-0600
TZNAME:CST
DTSTART:20241103T070000
END:STANDARD
BEGIN:DAYLIGHT
TZOFFSETFROM:-0600
TZOFFSETTO:-0500
TZNAME:CDT
DTSTART:20250309T080000
END:DAYLIGHT
BEGIN:STANDARD
TZOFFSETFROM:-0500
TZOFFSETTO:-0600
TZNAME:CST
DTSTART:20251102T070000
END:STANDARD
END:VTIMEZONE
BEGIN:VTIMEZONE
TZID:America/New_York
BEGIN:DAYLIGHT
TZOFFSETFROM:-0500
TZOFFSETTO:-0400
TZNAME:EDT
DTSTART:20220313T070000
END:DAYLIGHT
BEGIN:STANDARD
TZOFFSETFROM:-0400
TZOFFSETTO:-0500
TZNAME:EST
DTSTART:20221106T060000
END:STANDARD
BEGIN:DAYLIGHT
TZOFFSETFROM:-0500
TZOFFSETTO:-0400
TZNAME:EDT
DTSTART:20230312T070000
END:DAYLIGHT
BEGIN:STANDARD
TZOFFSETFROM:-0400
TZOFFSETTO:-0500
TZNAME:EST
DTSTART:20231105T060000
END:STANDARD
BEGIN:DAYLIGHT
TZOFFSETFROM:-0500
TZOFFSETTO:-0400
TZNAME:EDT
DTSTART:20240310T070000
END:DAYLIGHT
BEGIN:STANDARD
TZOFFSETFROM:-0400
TZOFFSETTO:-0500
TZNAME:EST
DTSTART:20241103T060000
END:STANDARD
BEGIN:DAYLIGHT
TZOFFSETFROM:-0500
TZOFFSETTO:-0400
TZNAME:EDT
DTSTART:20250309T070000
END:DAYLIGHT
BEGIN:STANDARD
TZOFFSETFROM:-0400
TZOFFSETTO:-0500
TZNAME:EST
DTSTART:20251102T060000
END:STANDARD
END:VTIMEZONE
BEGIN:VEVENT
DTSTART;TZID=America/Chicago:20240615T100000
DTEND;TZID=America/Chicago:20240615T130000
DTSTAMP:20260423T131928
CREATED:20240611T130719Z
LAST-MODIFIED:20240611T130719Z
UID:10000355-1718445600-1718456400@txdg.org
SUMMARY:Cars and Coffee: Ford Broncos
DESCRIPTION:Saturday\, June 15\, 2024\n10:00 am – 1: 00 pm \nCome on out to Texas Discovery Gardens for a close look at some classy Ford Broncos!
URL:https://txdg.org/event/cars-and-coffee-ford-broncos/
LOCATION:Texas Discovery Gardens\, 3601 Martin Luther King Junior\, Dallas\, TX\, United States
CATEGORIES:Calendar Event
ATTACH;FMTTYPE=image/png:https://txdg.org/wp-content/uploads/2024/06/Cars-and-Coffee-Flyer_square.png
END:VEVENT
BEGIN:VEVENT
DTSTART;TZID=America/Chicago:20240606T130000
DTEND;TZID=America/Chicago:20240606T150000
DTSTAMP:20260423T131928
CREATED:20240529T235429Z
LAST-MODIFIED:20240903T180527Z
UID:10000353-1717678800-1717686000@txdg.org
SUMMARY:June 2024 Homeschool Day
DESCRIPTION:🌊💧 Calling all Homeschoolers! Join us on Thursday\, June 6th at 1 PM for a cool exploration of the properties of water! 🌞🔬 \nAs the temperatures rise\, we’ll dive into fun\, hands-on experiments that reveal the amazing secrets of water. From floating paper clips to colorful capillary action\, discover how water works in our exciting summer science session.\nPerfect for curious minds and eager explorers—don’t miss! Included with General Admission. See you there! 👩‍🔬👨‍🔬 #HomeschoolDay #ScienceFun #WaterExperiments #TexasDiscoveryGardens #SummerLearning \n👉 Register now at education@txdg.org.
URL:https://txdg.org/event/june-2024-homeschool-day/
LOCATION:Texas Discovery Gardens\, 3601 Martin Luther King Junior\, Dallas\, TX\, United States
CATEGORIES:Calendar Event,Homeschool
ATTACH;FMTTYPE=image/png:https://txdg.org/wp-content/uploads/2024/05/Untitled-Instagram-Post.png
ORGANIZER;CN="Marisol Sanchez":MAILTO:education@txdg.org
END:VEVENT
BEGIN:VEVENT
DTSTART;VALUE=DATE:20240524
DTEND;VALUE=DATE:20240528
DTSTAMP:20260423T131928
CREATED:20240522T182027Z
LAST-MODIFIED:20240522T182027Z
UID:10000352-1716508800-1716854399@txdg.org
SUMMARY:Memorial Weekend Military Free Entry
DESCRIPTION:🌷🇺🇸 This Memorial Day weekend\, we’re honoring those who serve! Join us at Texas Discovery Gardens from May 25th-27th for a special tribute to our veterans and military members. 🌺 \nAll veterans\, active duty\, and retired military personnel will receive **FREE admission**. Just show your military ID at the entrance! \nCome and explore the serene beauty of our gardens and exhibits. It’s our way of saying THANK YOU for your service and dedication to our country. Spend a peaceful day with nature and let us show our gratitude for your immense contributions.
URL:https://txdg.org/event/memorial-weekend-military-free-entry/
LOCATION:Texas Discovery Gardens\, 3601 Martin Luther King Junior\, Dallas\, TX\, United States
CATEGORIES:Calendar Event
ATTACH;FMTTYPE=application/pdf:https://txdg.org/wp-content/uploads/2024/05/TDG-Memorial-Day-Social-5-21-24-2af5cdcf-59c9-40b3-9475-7cde49a2e738.pdf
END:VEVENT
BEGIN:VEVENT
DTSTART;TZID=America/New_York:20240519T090000
DTEND;TZID=America/New_York:20240519T120000
DTSTAMP:20260423T131928
CREATED:20240221T145523Z
LAST-MODIFIED:20240508T184111Z
UID:10000345-1716109200-1716120000@txdg.org
SUMMARY:May Pollinator Plant Sale
DESCRIPTION:Sunday\, May 19\, 2024: 9:00 am to 12:00 pm\, TDG Members and Non-Members \nOur volunteers and staff work throughout the year to bring you a fantastic selection of plants for our sales! If you are looking for tough-to-find Texas natives\, caterpillar host plants\, or nectar-producing flowers to attract hummingbirds to your patio\, we have it! \nA plant availability list will be posted one week before the sale. Please make your shopping list by the botanical name.
URL:https://txdg.org/event/pollinator-plant-sale/
LOCATION:Texas Discovery Gardens\, 3601 Martin Luther King Junior\, Dallas\, TX\, United States
CATEGORIES:Plant Sale
ATTACH;FMTTYPE=image/png:https://txdg.org/wp-content/uploads/2024/02/6.png
END:VEVENT
BEGIN:VEVENT
DTSTART;TZID=America/Chicago:20240509T160000
DTEND;TZID=America/Chicago:20240509T180000
DTSTAMP:20260423T131928
CREATED:20240502T163346Z
LAST-MODIFIED:20240903T180527Z
UID:10000351-1715270400-1715277600@txdg.org
SUMMARY:TDG + Kendra Scott
DESCRIPTION:Join us at @kendrascott West Village in Dallas for a special Kendra Gives Back event in support of the @texasdiscoverygardens! \n     \nRSVP at https://txdgxks.splashthat.com and celebrate with us from 4-6PM! \n#tdg #kendrascottgivesback #jewelrycollections
URL:https://txdg.org/event/tdg-kendra-scott/
LOCATION:Texas Discovery Gardens\, 3601 Martin Luther King Junior\, Dallas\, TX\, United States
END:VEVENT
BEGIN:VEVENT
DTSTART;VALUE=DATE:20240408
DTEND;VALUE=DATE:20240409
DTSTAMP:20260423T131928
CREATED:20240208T150249Z
LAST-MODIFIED:20240408T152936Z
UID:10000016-1712534400-1712620799@txdg.org
SUMMARY:Solar Eclipse Viewing
DESCRIPTION:Solar Eclipse Viewing – April 8th\nPartial Eclipse: 12:23pm – 3:02pm\nTotality: 1:40pm – 1:44pm \nJoin us for fun activities all day and Eclipse 101 at 12:30pm and 2:00pm! \nBring a picnic blanket and view the eclipse from you favorite spot in our lawns\, gardens and meadow. \nISO Certified Eclipse glasses available and in stock in the gift shop now. \n(Sold Out)
URL:https://txdg.org/event/solar-eclipse-viewing/
LOCATION:Texas Discovery Gardens\, 3601 Martin Luther King Junior\, Dallas\, TX\, United States
CATEGORIES:Calendar Event
ATTACH;FMTTYPE=image/png:https://txdg.org/wp-content/uploads/2024/02/eclipse.png
END:VEVENT
BEGIN:VEVENT
DTSTART;TZID=America/New_York:20240406T100000
DTEND;TZID=America/New_York:20240406T130000
DTSTAMP:20260423T131928
CREATED:20240327T125055Z
LAST-MODIFIED:20240327T125055Z
UID:10000348-1712397600-1712408400@txdg.org
SUMMARY:Cars and Coffee at TXDG - April
DESCRIPTION:April 6\, 2024\n10:00am – 1:00pm \nCalling all Car Enthusiasts!! \nWant to showcase all the work you’ve put into making your car the best? \nJoin our local community show – Free to enter. \nContact Teresa@txdg.org to reserve your spot today!
URL:https://txdg.org/event/cars-and-coffee-at-txdg-april/
LOCATION:Texas Discovery Gardens\, 3601 Martin Luther King Junior\, Dallas\, TX\, United States
CATEGORIES:Calendar Event
ATTACH;FMTTYPE=image/png:https://txdg.org/wp-content/uploads/2024/02/85b510e4-65f8-4cd9-813f-4c2376a89954.png
END:VEVENT
BEGIN:VEVENT
DTSTART;TZID=America/New_York:20240406T100000
DTEND;TZID=America/New_York:20240406T120000
DTSTAMP:20260423T131928
CREATED:20240328T132332Z
LAST-MODIFIED:20240404T210447Z
UID:10000350-1712397600-1712404800@txdg.org
SUMMARY:Start a Pollinator Garden Workshop
DESCRIPTION:April 6\, 2024 : 10:00 am \nHave you been wanting to start your own pollinator plant garden? Come learn how to get yours set up and what pollinators love most! \nLED BY: \nRoseann Ferguson & Keaton Hutto \nINCLUDES: \n\nReady to plant “Starter Garden”\nWith 20 established pollinators plants! ($80 value)\n\n$64 FOR TDG MEMBERS | $75 FOR NON-MEMBERS. \nThis is a registered event\, and is now SOLD OUT!\nCheck back again soon for more workshops!
URL:https://txdg.org/event/start-a-pollinator-garden-workshop/
LOCATION:Texas Discovery Gardens\, 3601 Martin Luther King Junior\, Dallas\, TX\, United States
CATEGORIES:Workshops
ATTACH;FMTTYPE=image/png:https://txdg.org/wp-content/uploads/2024/03/2a8d28ba-2805-4dff-88f8-58fe38e60600.png
END:VEVENT
BEGIN:VEVENT
DTSTART;VALUE=DATE:20240328
DTEND;VALUE=DATE:20240329
DTSTAMP:20260423T131928
CREATED:20240328T130710Z
LAST-MODIFIED:20240328T131812Z
UID:10000349-1711584000-1711670399@txdg.org
SUMMARY:Easter Egg Hunt
DESCRIPTION:March 30\, 2024 \nHunt Times: 11:00 am\, 1:00 pm\, 3:00 pm \nJoin us for an exciting egg hunt with candy (courtesy of FGF Catering) and prizes in The Meadow\, create memories with Easter crafts in the Multi-Purpose Room\, and explore our expansive 7.5-acre facility\, home to a bounce house\, play scape\, model trains\, reptile shack\, koi pond\, and butterfly house. \nDon’t forget your basket! \nYour entry is covered by either a membership or a general admission ticket\, and we offer complimentary parking in lot 6B for your convenience.
URL:https://txdg.org/event/easter-egg-hunt/
LOCATION:Texas Discovery Gardens\, 3601 Martin Luther King Junior\, Dallas\, TX\, United States
CATEGORIES:Calendar Event
ATTACH;FMTTYPE=image/jpeg:https://txdg.org/wp-content/uploads/2024/03/TDG-Easter-Hunt-Flyer-3-25-24-website-scaled.jpg
END:VEVENT
BEGIN:VEVENT
DTSTART;TZID=America/New_York:20240316T100000
DTEND;TZID=America/New_York:20240316T150000
DTSTAMP:20260423T131928
CREATED:20240313T202011Z
LAST-MODIFIED:20240313T202231Z
UID:10000347-1710583200-1710601200@txdg.org
SUMMARY:Cars & Coffee at TDG: March
DESCRIPTION:March 16\, from 10:00 am to 1:00 pm. \nCome meet the Kings & Queens Corvette Club. \nHerb’s Coffee Truck will also be on site! \nEnter Fair Park\, Gate 6 \n3601 MLK Jr Blvd\nDallas\, TX 75210
URL:https://txdg.org/event/cars-coffee-at-tdg-march/
LOCATION:Texas Discovery Gardens\, 3601 Martin Luther King Junior\, Dallas\, TX\, United States
ATTACH;FMTTYPE=image/png:https://txdg.org/wp-content/uploads/2024/02/68bf30e1-3575-48a1-874c-ac0c6852dafb.png
END:VEVENT
BEGIN:VEVENT
DTSTART;VALUE=DATE:20240311
DTEND;VALUE=DATE:20240316
DTSTAMP:20260423T131928
CREATED:20240208T145046Z
LAST-MODIFIED:20240208T145046Z
UID:10000015-1710115200-1710547199@txdg.org
SUMMARY:Spring Break
DESCRIPTION:Join us for Spring Break!\nMarch 11th – 15th \nDaily Activities \n\nStory time and charades\nBug hunt\nMeet a plant\nButterfly release\nCritter encounters
URL:https://txdg.org/event/spring-break/
LOCATION:Texas Discovery Gardens\, 3601 Martin Luther King Junior\, Dallas\, TX\, United States
CATEGORIES:Calendar Event
ATTACH;FMTTYPE=image/jpeg:https://txdg.org/wp-content/uploads/2024/02/spring-break.jpg
END:VEVENT
BEGIN:VEVENT
DTSTART;TZID=America/New_York:20240229T180000
DTEND;TZID=America/New_York:20240229T200000
DTSTAMP:20260423T131928
CREATED:20240208T143620Z
LAST-MODIFIED:20240208T143620Z
UID:10000013-1709229600-1709236800@txdg.org
SUMMARY:Member's Night
DESCRIPTION:February 29th\, 6pm-8pm \nLeap into Spring! \nMusic\, Light Snacks\, Beverages\, and Deep Discounts in the TDG Gift Shop. \nBring a complimentary plus one!
URL:https://txdg.org/event/members-night/
LOCATION:Texas Discovery Gardens\, 3601 Martin Luther King Junior\, Dallas\, TX\, United States
CATEGORIES:Calendar Event
ATTACH;FMTTYPE=image/jpeg:https://txdg.org/wp-content/uploads/2024/02/city-town-silhouette-building-preview.jpg
END:VEVENT
BEGIN:VEVENT
DTSTART;VALUE=DATE:20240226
DTEND;VALUE=DATE:20240227
DTSTAMP:20260423T131928
CREATED:20240318T204012Z
LAST-MODIFIED:20240318T204013Z
UID:10000020-1708905600-1708991999@txdg.org
SUMMARY:Half-Price Mondays are Back!
DESCRIPTION:Celebrate our extended hours with Half Price Mondays! \nReceive half off our regular admission pricing for you and the family every Monday throughout February.
URL:https://txdg.org/event/half-price-mondays-are-back-2/
LOCATION:Texas Discovery Gardens\, 3601 Martin Luther King Junior\, Dallas\, TX\, United States
ATTACH;FMTTYPE=image/png:https://txdg.org/wp-content/uploads/2024/02/HPMondays2.png
END:VEVENT
BEGIN:VEVENT
DTSTART;VALUE=DATE:20240219
DTEND;VALUE=DATE:20240220
DTSTAMP:20260423T131928
CREATED:20240208T191706Z
LAST-MODIFIED:20240208T191706Z
UID:10000019-1708300800-1708387199@txdg.org
SUMMARY:Half-Price Mondays are Back!
DESCRIPTION:Celebrate our extended hours with Half Price Mondays! \nReceive half off our regular admission pricing for you and the family every Monday throughout February.
URL:https://txdg.org/event/half-price-mondays-are-back/2024-02-19/
LOCATION:Texas Discovery Gardens\, 3601 Martin Luther King Junior\, Dallas\, TX\, United States
ATTACH;FMTTYPE=image/png:https://txdg.org/wp-content/uploads/2024/02/HPMondays2.png
END:VEVENT
BEGIN:VEVENT
DTSTART;TZID=America/New_York:20240217T100000
DTEND;TZID=America/New_York:20240217T150000
DTSTAMP:20260423T131928
CREATED:20240208T144343Z
LAST-MODIFIED:20240314T214448Z
UID:10000014-1708164000-1708182000@txdg.org
SUMMARY:Cars and Coffee at TDG
DESCRIPTION:Corvair Car Show\nSaturday\, February 17: 10am – 3pm \nLocated to the side of Texas Discovery Gardens\, on First Avenue. \n \nStop by Herb’s House Coffee Shop on Wheels while you’re at the show!
URL:https://txdg.org/event/corvair-car-show/
LOCATION:Texas Discovery Gardens\, 3601 Martin Luther King Junior\, Dallas\, TX\, United States
CATEGORIES:Calendar Event
ATTACH;FMTTYPE=image/png:https://txdg.org/wp-content/uploads/2024/02/corvair.png
END:VEVENT
BEGIN:VEVENT
DTSTART;VALUE=DATE:20240216
DTEND;VALUE=DATE:20240219
DTSTAMP:20260423T131928
CREATED:20240208T142527Z
LAST-MODIFIED:20240208T142540Z
UID:10000012-1708041600-1708300799@txdg.org
SUMMARY:Axolotl Weekend
DESCRIPTION:Friday February 16th – Sunday\, February 18th \n20% off Axolotl items in Gift Shop all weekend! \nDaily Activities\n\nCrafts\nGames\nScavenger hunt\nInteractive axolotl feeding\nNaming contest (winner receives a family membership!)\n\nBecome a sponsor to our Axolotl Tank!
URL:https://txdg.org/event/axolotl-weekend/
LOCATION:Texas Discovery Gardens\, 3601 Martin Luther King Junior\, Dallas\, TX\, United States
CATEGORIES:Calendar Event
ATTACH;FMTTYPE=image/jpeg:https://txdg.org/wp-content/uploads/2024/02/axolotl1.jpg
END:VEVENT
BEGIN:VEVENT
DTSTART;VALUE=DATE:20240212
DTEND;VALUE=DATE:20240213
DTSTAMP:20260423T131928
CREATED:20240208T191706Z
LAST-MODIFIED:20240208T191706Z
UID:10000018-1707696000-1707782399@txdg.org
SUMMARY:Half-Price Mondays are Back!
DESCRIPTION:Celebrate our extended hours with Half Price Mondays! \nReceive half off our regular admission pricing for you and the family every Monday throughout February.
URL:https://txdg.org/event/half-price-mondays-are-back/2024-02-12/
LOCATION:Texas Discovery Gardens\, 3601 Martin Luther King Junior\, Dallas\, TX\, United States
ATTACH;FMTTYPE=image/png:https://txdg.org/wp-content/uploads/2024/02/HPMondays2.png
END:VEVENT
BEGIN:VEVENT
DTSTART;TZID=America/New_York:20240208T110000
DTEND;TZID=America/New_York:20240213T160000
DTSTAMP:20260423T131928
CREATED:20240206T213114Z
LAST-MODIFIED:20240213T171130Z
UID:10000011-1707390000-1707840000@txdg.org
SUMMARY:Patio and Houseplant Plant Sale
DESCRIPTION:Patio and Houseplant Sale\nJust in time for Valentine’s Day! \nThursday to Wednesday\, February 8th to 14 13th\, 2024: 11:00 am to 4:00 pm. \n(Sorry\, this Spring Sale was so successful we’re having to end it on Tuesday Feb 13th. Stay tuned for the next upcoming sale!) \nJoin us in the Grand Hall to shop a beautiful selection of plants for your living room\, workspace\, or home office. \nChoose from succulents\, airplane plants\, terrarium plants\, and many more!
URL:https://txdg.org/event/patio-and-houseplant-plant-sale/
LOCATION:Texas Discovery Gardens\, 3601 Martin Luther King Junior\, Dallas\, TX\, United States
CATEGORIES:Plant Sale
ATTACH;FMTTYPE=image/jpeg:https://txdg.org/wp-content/uploads/2024/02/Houseplant-Haworthia-thumb-1.jpg
END:VEVENT
BEGIN:VEVENT
DTSTART;VALUE=DATE:20240205
DTEND;VALUE=DATE:20240206
DTSTAMP:20260423T131928
CREATED:20240208T191706Z
LAST-MODIFIED:20240208T191706Z
UID:10000017-1707091200-1707177599@txdg.org
SUMMARY:Half-Price Mondays are Back!
DESCRIPTION:Celebrate our extended hours with Half Price Mondays! \nReceive half off our regular admission pricing for you and the family every Monday throughout February.
URL:https://txdg.org/event/half-price-mondays-are-back/2024-02-05/
LOCATION:Texas Discovery Gardens\, 3601 Martin Luther King Junior\, Dallas\, TX\, United States
ATTACH;FMTTYPE=image/png:https://txdg.org/wp-content/uploads/2024/02/HPMondays2.png
END:VEVENT
BEGIN:VEVENT
DTSTART;TZID=America/New_York:20231109T180000
DTEND;TZID=America/New_York:20231109T210000
DTSTAMP:20260423T131928
CREATED:20231003T153526Z
LAST-MODIFIED:20231003T153952Z
UID:10000005-1699552800-1699563600@txdg.org
SUMMARY:Join Us for Our 87th Anniversary Celebration!
DESCRIPTION:Texas Discovery Gardens was established in 1937 as “The Hall of Horticulture” and has spent the past 87 years growing our presence in Dallas. In this time we have provided classes\, educational resources\, and scholarships to thousands of children and adults in our community. Everything we do here is meant to support these individuals as they pursue a better education. \nPlease join us in celebrating 87 years of operation at Texas Discovery Gardens on Thursday\, November 9th from 6:00 pm to 9:00 pm. It will be a fun-filled evening of cocktails\, food\, and live entertainment! All proceeds from sponsorships and ticket sales will directly benefit Texas Discovery Gardens’ 7.5 acre facilities. Some of our current projects include renovations on our Butterfly House\, Snake & Reptile Shack\, organic gardens\, and infrastructure. \nPurchase your tickets for this event below. If you do not wish to attend\, please consider making a donation or sign up for a membership today!
URL:https://txdg.org/event/join-us-for-our-87th-anniversary-celebration/
LOCATION:Texas Discovery Gardens\, 3601 Martin Luther King Junior\, Dallas\, TX\, United States
CATEGORIES:Gala
ATTACH;FMTTYPE=image/png:https://txdg.org/wp-content/uploads/2023/10/FallFundraiser7.png
END:VEVENT
BEGIN:VEVENT
DTSTART;TZID=America/New_York:20231028T110000
DTEND;TZID=America/New_York:20231028T140000
DTSTAMP:20260423T131928
CREATED:20231003T204416Z
LAST-MODIFIED:20231003T204416Z
UID:10000007-1698490800-1698501600@txdg.org
SUMMARY:Halloween Family Day
DESCRIPTION:Join us for a spook-tacular celebration! Saturday\, October 28th is Halloween Family Day and we will have plenty of activities for you and the whole family to enjoy from 11 am – 2 pm! \n🧛 Face painting in the lobby \n🍬 Trick or treating throughout the garden \n🎃 Pumpkin painting in the meadow \n🔮 Raffle prizes \n🛍️ Grab bags \n🦇 Bats and spiders education in the Pavilion \n🐍 Critter encounter at 1 pm in the lobby \n\nHalf price admission for anyone who wears a costume! \nAdmission: \n$12 adults (13+) \n$6 children (4-12 years old) \n$10 seniors\, military\, first responders\, teachers\, students with ID
URL:https://txdg.org/event/halloween-family-day/
LOCATION:Texas Discovery Gardens\, 3601 Martin Luther King Junior\, Dallas\, TX\, United States
ATTACH;FMTTYPE=image/png:https://txdg.org/wp-content/uploads/2023/10/images.squarespace-cdn.com-88279121088224140.png
END:VEVENT
BEGIN:VEVENT
DTSTART;TZID=America/New_York:20231014T110000
DTEND;TZID=America/New_York:20231014T123000
DTSTAMP:20260423T131928
CREATED:20231003T204214Z
LAST-MODIFIED:20231003T204245Z
UID:10000006-1697281200-1697286600@txdg.org
SUMMARY:Watch the Solar Eclipse with Us!
DESCRIPTION:Come learn about how eclipses work while we watch this special celestial event! Join us from 11 am – 12:30 pm out on our circular lawn. We will provide materials to make your own pinhole camera to view this partial annular eclipse safely. TDG will have a special optical projection set up and have eclipse glasses for sale for safe viewing. Eclipse maximum (80.8% totality) at 11:52 am.
URL:https://txdg.org/event/watch-the-solar-eclipse-with-us/
LOCATION:Texas Discovery Gardens\, 3601 Martin Luther King Junior\, Dallas\, TX\, United States
ATTACH;FMTTYPE=image/png:https://txdg.org/wp-content/uploads/2023/10/images.squarespace-cdn.com-88279107750667950.png
END:VEVENT
BEGIN:VEVENT
DTSTART;TZID=America/New_York:20230907T140000
DTEND;TZID=America/New_York:20230907T150000
DTSTAMP:20260423T131929
CREATED:20230911T173719Z
LAST-MODIFIED:20230911T173719Z
UID:10000003-1694095200-1694098800@txdg.org
SUMMARY:2023 Fall Pollinator Plant Sale
DESCRIPTION:Friday\, Saturday\, and Sunday September 15th-17th\n9:00 AM 1:00 PM\nTexas Discovery Gardens\n3601 Martin Luther King Junior BoulevardDallas\, TX\, 75210 United States (map)\nJoin us for our Fall Pollinator Plant Sale! We will have a variety of host and nectar plants to feed our hummingbird\, butterfly\, moth\, and other insect friends. Friday\, September 15th is our Members Only Night! Members will have the opportunity to shop before the general public as well receive 10% off their purchase. General public sale will be Saturday\, September 16th 9am-1pm and Sunday\, September 17th 9am-1pm. \nThere will be free parking in lot 8A on the southern corner of 1st and Pennsylvania Avenue.
URL:https://txdg.org/event/2023-fall-pollinator-plant-sale/
LOCATION:Texas Discovery Gardens\, 3601 Martin Luther King Junior\, Dallas\, TX\, United States
CATEGORIES:Plant Sale
ATTACH;FMTTYPE=image/png:https://txdg.org/wp-content/uploads/2023/09/FallPlantSaleIG3.png
END:VEVENT
BEGIN:VEVENT
DTSTART;TZID=America/New_York:20230907T140000
DTEND;TZID=America/New_York:20230907T150000
DTSTAMP:20260423T131929
CREATED:20230911T170453Z
LAST-MODIFIED:20230911T171312Z
UID:10000001-1694095200-1694098800@txdg.org
SUMMARY:Homeschool Day
DESCRIPTION:Texas Discovery Gardens\n3601 Martin Luther King Junior BoulevardDallas\, TX\, 75210United States (map)\nFor all homeschooled kids ages PK-12th grade with Guardian. \nEvery first Thursday of each month at 2pm. \nOutside in our gardens\, rain or shine. Please make sure to dress for the weather. \nEvery month will be a different topic! We’ll explore our topic while exploring the gardens with themed TEKS-based activities and crafts. Guided programs will last approximately one hour. After the program\, participants are welcome to explore the rest of the gardens and Butterfly House on their own until we close at 5pm. \nProgram Itinerary:\n2:00 – introduction/ice breaker activity\n2:15 – mindfulness activity\n2:20 – topic exploration including physical activity\n2:45 – craft or takeaway\n3:00 – individual exploration\nCOST: Nonmember: $10 per child\, $12 per adult\nFamily Membership or above: $10 per child\, free for member adult
URL:https://txdg.org/event/homeschool-day/
LOCATION:Texas Discovery Gardens\, 3601 Martin Luther King Junior\, Dallas\, TX\, United States
CATEGORIES:Field Trips,Homeschool
ATTACH;FMTTYPE=image/png:https://txdg.org/wp-content/uploads/2023/09/JoinusattheTexasDiscoveryGardens1080×1080px3.png
END:VEVENT
END:VCALENDAR